Workbook

Sheet کاور
A18: ‫صندوق سرمایه گذاری اختصاصی بازارگردانی لاجورد دماوند
A19: گزارش افشا پرتفوی ماهانه
A20: در اجرای ابلاغیه شماره 12020093 مورخ 1396/09/05 سازمان بورس اوراق بهادار
A21: دوره یک ماهه منتهی به 30 مهر 1405

Sheet سهام
A1: صندوق سرمایه‌گذاری اختصاصی بازارگردانی لاجورد دماوند
A2: صورت وضعیت پرتفوی
A3: به تاریخ 30 مهر 1405
A5: 1- سرمایه‌گذاری‌ها
A6: 1-1- سرمایه‌گذاری در سهام و حق تقدم سهام
C7: (مبالغ به ریال)
C8: 1405/06/31 | I8: تغییرات طی دوره | Q8: 1405/07/30
A9: نام شرکت | C9: تعداد | E9: بهای تمام شده | G9: خالص ارزش فروش | I9: خرید طی دوره | M9: فروش طی دوره | Q9: تعداد | S9: قیمت بازار هر سهم | U9: بهای تمام شده | W9: خالص ارزش فروش | Y9: درصد به کل دارایی ها
I10: تعداد | K10: بهای تمام شده | M10: تعداد | O10: مبلغ فروش | AA10: 45277725963643
A11: تامین سرمایه دماوند | C11: 486570234 | E11: 1367029073390 | G11: 1153267445155 | I11: 64774472 | K11: 162770494895 | M11: -32100000 | O11: 82366853761 | Q11: =C11+I11+M11 -> 519244706 | S11: 2781 | U11: 1440500183031 | W11: 1442922072545 | Y11: =W11/57446223997977*100 -> 2.5117788 | AA11: =C11+I11+M11-Q11 -> 0
A12: بین المللی ساروج بوشهر | C12: 25465134 | E12: 874432258288 | G12: 1432342984241 | I12: 494556 | K12: 29899540010 | M12: -400000 | O12: 24486776101 | Q12: =C12+I12+M12 -> 25559690 | S12: 64570 | U12: 890497679446 | W12: 1649134887520 | Y12: =W12/57446223997977*100 -> 2.8707455 | AA12: =C12+I12+M12-Q12 -> 0
A13: توسعه حمل و نقل ریلی پارسیان | C13: 11426300 | E13: 130914915228 | G13: 232234309684 | I13: 150000 | K13: 3048712966 | M13: -2051887 | O13: 45448875355 | Q13: =C13+I13+M13 -> 9524413 | S13: 22300 | U13: 110235307442 | W13: 212232990148 | Y13: =W13/57446223997977*100 -> 0.36944637 | AA13: =C13+I13+M13-Q13 -> 0
A14: توسعه سرمایه و صنعت غدیر | C14: 177183622 | E14: 1558187989783 | G14: 3801241223743 | I14: 2100000 | K14: 49503933436 | M14: -14000000 | O14: 378029798503 | Q14: =C14+I14+M14 -> 165283622 | S14: 32180 | U14: 1482686110154 | W14: 5314784647473 | Y14: =W14/57446223997977*100 -> 9.2517563 | AA14: =C14+I14+M14-Q14 -> 0
A15: آ.س.پ | C15: 2800000 | E15: 49192620171 | G15: 95155626720 | I15: 0 | K15: 0 | M15: 0 | O15: 0 | Q15: =C15+I15+M15 -> 2800000 | S15: 20700 | U15: 49192620171 | W15: 57915950400 | Y15: =W15/57446223997977*100 -> 0.10081768 | AA15: =C15+I15+M15-Q15 -> 0
A16: آهن و فولاد غدیر ایرانیان | C16: 114677397 | E16: 680551094790 | G16: 836508767901 | I16: 1000000 | K16: 10957954080 | M16: -55077397 | O16: 517196219013 | Q16: =C16+I16+M16 -> 60600000 | S16: 12140 | U16: 363882737772 | W16: 735124880160 | Y16: =W16/57446223997977*100 -> 1.2796748 | AA16: =C16+I16+M16-Q16 -> 0
A17: بین‌المللی‌توسعه‌ساختمان | C17: 485000000 | E17: 304705461750 | G17: 362988918600 | I17: 257084349 | K17: 220470453800 | M17: -207000000 | O17: 171589493205 | Q17: =C17+I17+M17 -> 535084349 | S17: 828 | U17: 391337752986 | W17: 442713123092 | Y17: =W17/57446223997977*100 -> 0.77065661 | AA17: =C17+I17+M17-Q17 -> 0
A18: بیمه کوثر | C18: 30718316 | E18: 68605443020 | G18: 54360792011 | I18: 0 | K18: 0 | M18: 0 | O18: 0 | Q18: =C18+I18+M18 -> 30718316 | S18: 1988 | U18: 68605443020 | W18: 61021600518 | Y18: =W18/57446223997977*100 -> 0.10622387 | AA18: =C18+I18+M18-Q18 -> 0
A19: توسعه مسیر برق گیلان | C19: 9521500 | E19: 185411863180 | G19: 245753430337 | I19: 1309796 | K19: 33735615100 | M19: -4470546 | O19: 123253707293 | Q19: =C19+I19+M19 -> 6360750 | S19: 29370 | U19: 129550957364 | W19: 186673247927 | Y19: =W19/57446223997977*100 -> 0.32495303 | AA19: =C19+I19+M19-Q19 -> 0
A20: بین المللی توسعه ص. معادن غدیر | C20: 1369244485 | E20: 5148881741833 | G20: 9303786242501 | I20: 12000000 | K20: 78738411825 | M20: -187017674 | O20: 1632586679375 | Q20: =C20+I20+M20 -> 1194226811 | S20: 10420 | U20: 4519811092686 | W20: 12434386049658 | Y20: =W20/57446223997977*100 -> 21.645263 | AA20: =C20+I20+M20-Q20 -> 0
A21: صبا فولاد خلیج فارس | C21: 1376128527 | E21: 6167675029020 | G21: 5225314143414 | I21: 0 | K21: 0 | M21: 0 | O21: 0 | Q21: =C21+I21+M21 -> 1376128527 | S21: 4190 | U21: 6167675029020 | W21: 5761596384448 | Y21: =W21/57446223997977*100 -> 10.029548 | AA21: =C21+I21+M21-Q21 -> 0
A22: سرمایه‌گذاری‌غدیر(هلدینگ‌ | C22: 99315298 | E22: 1681152000096 | G22: 2033423878473 | I22: 67100000 | K22: 1469489870048 | M22: -36415298 | O22: 781837709783 | Q22: =C22+I22+M22 -> 130000000 | S22: 20940 | U22: 2522050632341 | W22: 2720131128000 | Y22: =W22/57446223997977*100 -> 4.7350913 | AA22: =C22+I22+M22-Q22 -> 0
... A24: گروه مالی نماد غدیر(سهامی عام) | C24: 3095906684 | E24: 8177769679753 | G24: 12188601951985 | I24: 161342288 | K24: 689798849200 | M24: -447877428 | O24: 1940460985121 | Q24: =C24+I24+M24 -> 2809371544 | S24: 4590 | U24: 7674271604199 | W24: 12885215175265 | Y24: =W24/57446223997977*100 -> 22.430047 | AA24: =C24+I24+M24-Q24 -> 0
C25: =SUM(C11:C24) -> 7528334827 | E25: =SUM(E11:E24) -> 26900023950036 | G25: =SUM(G11:G24) -> 37663367700000 | I25: =SUM(I11:I24) -> 586728190 | K25: =SUM(K11:K24) -> 2813527609503 | M25: =SUM(M11:M24) -> -994910230 | O25: =SUM(O11:O24) -> 5725432068446 | Q25: =SUM(Q11:Q24) -> 7120152787 | U25: =SUM(U11:U24) -> 26363009936451 | W25: =SUM(W11:W24) -> 44771042771601 | Y25: =SUM(Y11:Y24) -> 77.935571
E27: 29706608671886 | G27: 28884762411122 | I27: 381032133 | K27: 1040862065318 | M27: -669357710 | O27: -3682529600454 | Q27: =C25+I25+M25 -> 7120152787 | U27: 27755996548443 | W27: 5571820135707 | Y27: 73.61
E28: =E27-E25 -> 2806584721850 | G28: =G27-G25 -> -8778605288878 | I28: =I27-I25 -> -205696057 | K28: =K27-K25 -> -1772665544185 | M28: =M27-M25 -> 325552520 | O28: =O27-O25 -> -9407961668900 | Q28: =Q27-Q25 -> 0 | U28: =U27-U25 -> 1392986611992 | W28: =U27+W27 -> 33327816684150 | Y28: =Y27-Y25 -> -4.3255711
W29: =W28-W25 -> -11443226087451

Sheet واحدهای صندوق
A1: صندوق سرمایه‌گذاری اختصاصی بازارگردانی لاجورد دماوند
A2: صورت وضعیت پرتفوی
A3: =سهام!A3 -> به تاریخ 30 مهر 1405
A5: 1-2- سرمایه‌گذاری در واحدهای صندوق های سرمایه‌گذاری
C6: (مبالغ به ریال)
C7: =سهام!C8 -> 1405/06/31 | I7: تغییرات طی دوره | Q7: =سهام!Q8 -> 1405/07/30
A8: صندوق | C8: تعداد واحد | E8: بهای تمام شده | G8: خالص ارزش فروش | I8: خرید/صدور طی دوره | M8: فروش/ابطال طی دوره | Q8: تعداد | S8: قیمت ابطال / بازار هر واحد | U8: بهای تمام شده | W8: خالص ارزش فروش | Y8: درصد به کل دارایی‌ها
I9: تعداد | K9: بهای تمام شده | M9: تعداد | O9: مبلغ فروش
A10: صندوق س سپر سرمایه بیدار- ثابت | C10: 6460000 | E10: 184377124224 | G10: 303766344840 | I10: 0 | K10: 0 | M10: 0 | O10: 0 | Q10: 6460000 | S10: 48325 | U10: 184377124224 | W10: 312064383808 | Y10: =W10/57446223997977*100 -> 0.54322871
A11: صندوق س. سپید دماوند-د | C11: 65915712 | E11: 2323797471162 | G11: 2353245658924 | I11: 68360000 | K11: 2474468683961 | M11: -52670000 | O11: 1906947393793 | Q11: 81605712 | S11: 36675 | U11: 2917564324978 | W11: 2991785859598 | Y11: =W11/57446223997977*100 -> 5.2079765
A12: ص.س.درآمد ثابت رایا پایدار-د | C12: 2000000 | E12: 20000000000 | G12: 21907918475 | I12: 0 | K12: 0 | M12: 0 | O12: 0 | Q12: 2000000 | S12: 11271 | U12: 20000000000 | W12: 22533687637 | Y12: =W12/57446223997977*100 -> 0.039225707
A13: صندوق س. نوع دوم اعتبار-د | C13: 52500000 | E13: 1505519955745 | G13: 1546919363059 | I13: 0 | K13: 0 | M13: -52500000 | O13: 1578609555313 | Q13: 0 | S13: 0 | U13: 0 | W13: 0 | Y13: =W13/57446223997977*100 -> 0
A14: ص.س.درآمد ثابت اطمینان هیوا-د | C14: 48150000 | E14: 756452288879 | G14: 885200112045 | I14: 10800000 | K14: 201364625830 | M14: 0 | O14: 0 | Q14: 58950000 | S14: 18913 | U14: 957816914709 | W14: 1114510222748 | Y14: =W14/57446223997977*100 -> 1.9400931
A15: صندوق س.درآمد ثابت سام-د | C15: 1000000 | E15: 20081402283 | G15: 21752975631 | I15: 0 | K15: 0 | M15: 0 | O15: 0 | Q15: 1000000 | S15: 22392 | U15: 20081402283 | W15: 22383742950 | Y15: =W15/57446223997977*100 -> 0.03896469
A16: صندوق س.درآمدثابت شمیم تابان-د | C16: 16800000 | E16: 300970141828 | G16: 321097551600 | I16: 0 | K16: 0 | M16: 0 | O16: 0 | Q16: 16800000 | S16: 19673 | U16: 300970141828 | W16: 330384525764 | Y16: =W16/57446223997977*100 -> 0.57511966
A17: ص.س.درآمد ثابت آبی هامون-د | C17: 11500000 | E17: 115042406250 | G17: 118923630734 | I17: 246250000 | K17: 2606906942082 | M17: -11500000 | O17: 120889405588 | Q17: 246250000 | S17: 10635 | U17: 2606906942082 | W17: 2617903042143 | Y17: =W17/57446223997977*100 -> 4.5571368
A18: ص.س.درآمد ثابت برلیان شهر-د | C18: 2000000 | E18: 20007375000 | G18: 21935908150 | I18: 0 | K18: 0 | M18: -2000000 | O18: 22039869810 | Q18: 0 | S18: 0 | U18: 0 | W18: 0 | Y18: =W18/57446223997977*100 -> 0
A19: صندوق س.درآمد ثابت خاورمیانه-د | C19: 0 | E19: 0 | G19: 0 | I19: 12000000 | K19: 120044250000 | M19: 0 | O19: 0 | Q19: 12000000 | S19: 10000 | U19: 120044250000 | W19: 119955750000 | Y19: =W19/57446223997977*100 -> 0.20881399
E20: =SUM(E10:E19) -> 5246248165371 | G20: =SUM(G10:G19) -> 5594749463458 | K20: =SUM(K10:K19) -> 5402784501873 | O20: =SUM(O10:O19) -> 3628486224504 | U20: =SUM(U10:U19) -> 7127761100104 | W20: =SUM(W10:W19) -> 7531521214648 | Y20: =SUM(Y10:Y19) -> 13.110559
E22: 2282122162449 | G22: 2598074390298 | I22: 56380000 | K22: 1496428614600 | M22: -33532194 | O22: -931766640064 | Q22: =C20+I20+M20 -> 0 | U22: 2893069574391 | W22: 344134055538 | Y22: 7.15
E23: =E22-E20 -> -2964126002922 | G23: =G22-G20 -> -2996675073160 | I23: =I22-I20 -> 56380000 | K23: =K22-K20 -> -3906355887273 | M23: =M22-M20 -> -33532194 | O23: =O22-O20 -> -4560252864568 | Q23: =Q22-Q20 -> 0 | U23: =U22-U20 -> -4234691525713 | W23: =U22+W22 -> 3237203629929 | Y23: =Y22-Y20 -> -5.9605592
W24: =W23-W20 -> -4294317584719

Sheet اوراق
A1: صندوق سرمایه‌گذاری اختصاصی بازارگردانی لاجورد دماوند
A2: صورت وضعیت پرتفوی
A3: =سهام!A3 -> به تاریخ 30 مهر 1405
A5: 1-3- سرمایه‌گذاری در اوراق بهادار با درآمد ثابت یا علی‌الحساب
C6: (مبالغ به ریال)
C7: اطلاعات اوراق با درآمد ثابت | O7: =سهام!C8 -> 1405/06/31 | U7: تغییرات طی دوره | AC7: =سهام!Q8 -> 1405/07/30
A8: نام اوراق | C8: دارای مجوز از سازمان | E8: پذیرفته شده در بورس یا فرابورس | G8: تاریخ انتشار اوراق | I8: تاریخ سررسید | K8: نرخ سود اسمی | M8: نرخ سود موثر | O8: تعداد | Q8: بهای تمام شده | S8: خالص ارزش فروش | U8: خرید طی دوره | Y8: فروش طی دوره | AC8: تعداد | AE8: قیمت بازار هر سهم | AG8: بهای تمام شده | AI8: خالص ارزش فروش | AK8: درصد به کل دارایی‌ها
U9: تعداد | W9: بهای تمام شده | Y9: تعداد | AA9: مبلغ فروش
A10: مرابحه پدیده شیمی غرب 14060704 | C10: بله | E10: بله | G10: 1401/07/04 | I10: 1406/07/04 | K10: 18 | M10: 23.5 | O10: 1989000 | Q10: 1989419274458 | S10: 1987557975000 | U10: 0 | W10: 0 | Y10: -1095000 | AA10: 1094697125000 | AC10: =O10+U10+Y10 -> 894000 | AE10: 4000000 | AG10: 894211150567 | AI10: 893351850000 | AK10: =AI10/57446223997977*100 -> 1.5551098
O11: =SUM(O10) -> 1989000 | Q11: =SUM(Q10) -> 1989419274458 | S11: =SUM(S10) -> 1987557975000 | U11: =SUM(U10) -> 0 | W11: =SUM(W10) -> 0 | Y11: =SUM(Y10) -> -1095000 | AA11: =SUM(AA10) -> 1094697125000 | AC11: =SUM(AC10:AC10) -> 894000 | AG11: =SUM(AG10:AG10) -> 894211150567 | AI11: =SUM(AI10:AI10) -> 893351850000 | AK11: =SUM(AK10:AK10) -> 1.5551098
Q13: 464129399463 | S13: 463663600000 | U13: 1130000 | W13: 1130233249998 | Y13: -50000 | AA13: -49963750000 | AC13: =O10+U10+Y10 -> 894000 | AG13: 1544348899461 | AI13: -1468299461 | AK13: 1.15
Q14: =Q13-Q11 -> -1525289874995 | S14: =S13-S11 -> -1523894375000 | U14: =U13-U11 -> 1130000 | W14: =W13-W11 -> 1130233249998 | Y14: =Y13-Y11 -> 1045000 | AA14: =AA13-AA11 -> -1144660875000 | AC14: =AC13-AC11 -> 0 | AG14: =AG13-AG11 -> 650137748894 | AI14: =AG13+AI13 -> 1542880600000 | AK14: =AK13-AK11 -> -0.40510978
AI15: =AI14-AI11 -> 649528750000

Sheet سپرده
A1: صندوق سرمایه‌گذاری اختصاصی بازارگردانی لاجورد دماوند
A2: صورت وضعیت پرتفوی
A3: =سهام!A3 -> به تاریخ 30 مهر 1405
A5: 1-4- سرمایه‌گذاری در سپرده‌ بانکی
C6: (مبالغ به ریال)
C7: =سهام!C8 -> 1405/06/31 | E7: تغییرات طی دوره | I7: =سهام!Q8 -> 1405/07/30
A8: سپرده‌های بانکی | C8: مبلغ | E8: افزایش | G8: کاهش | I8: مبلغ | K8: درصد به کل دارایی‌ها
A9: گردشگری | C9: 2110054936994 | E9: 6708484253974 | G9: -8336055488005 | I9: =C9+E9+G9 -> 482483702963 | K9: =I9/57446223997977*100 -> 0.83988758 | M9: =اوراق!#REF! -> #REF!
A10: بانک تجارت | C10: 123451982 | E10: 134640505 | G10: -136750955 | I10: =C10+E10+G10 -> 121341532 | K10: =I10/57446223997977*100 -> 0.0002112263
A11: بانک سینا | C11: 49654981 | E11: 0 | G11: -1267002 | I11: =C11+E11+G11 -> 48387979 | K11: =I11/57446223997977*100 -> 8.4231783e-05
A12: بانک رسالت | C12: 1355688 | E12: 1000000 | G12: -1299000 | I12: =C12+E12+G12 -> 1056688 | K12: =I12/57446223997977*100 -> 1.8394386e-06
C13: =SUM(C9:C12) -> 2110229399645 | E13: =SUM(E9:E12) -> 6708619894479 | G13: =SUM(G9:G12) -> -8336194804962 | I13: =SUM(I9:I12) -> 482654489162 | K13: =SUM(K9:K12) -> 0.84018488
C15: 1822251403962 | E15: 5177727326516 | G15: -6676622271491 | I15: 323356458987 | K15: 0.71
C16: =C15-C13 -> -287977995683 | E16: =E15-E13 -> -1530892567963 | G16: =G15-G13 -> 1659572533471 | I16: =I15-I13 -> -159298030175 | K16: =K15-K13 -> -0.13018488

Sheet درآمد
A1: صندوق سرمایه‌گذاری اختصاصی بازارگردانی لاجورد دماوند
A2: صورت وضعیت درآمدها
A3: دوره یک ماهه منتهی به 30 مهر 1405
A5: 2- درآمد حاصل از سرمایه‌گذاری‌ها
C6: (مبالغ به ریال)
A7: شرح | C7: یادداشت | E7: مبلغ | G7: درصد از کل درآمدها | I7: درصد از کل دارایی‌ها
A8: درآمد حاصل از سرمایه‌گذاری در سهام و حق تقدم سهام | C8: 2-1 | E8: ='درآمد سرمایه گذاری در سهام'!S37 -> 31740119082988 | G8: =E8/$E$13*100 -> 96.403455 | I8: =E8/57446223997977*100 -> 55.251881
A9: درآمد حاصل از سرمایه‌گذاری در واحدهای صندوق‌های سرمایه‌گذاری | C9: 2-2 | E9: ='درآمد سرمایه گذاری در صندوق'!S27 -> 917711524985 | G9: =E9/$E$13*100 -> 2.7873418 | I9: =E9/57446223997977*100 -> 1.5975141
A10: درآمد حاصل از سرمایه‌گذاری در اوراق بهادار با درآمد ثابت | C10: 2-3 | E10: ='درآمد سرمایه گذاری در اوراق به'!S12 -> 153828064533 | G10: =E10/$E$13*100 -> 0.46721806 | I10: =E10/57446223997977*100 -> 0.2677775
A11: درآمد حاصل از سرمایه‌گذاری در سپرده بانکی و گواهی سپرده | C11: 2-4 | E11: ='درآمد سپرده بانکی'!G13 -> 38274124329 | G11: =E11/$E$13*100 -> 0.11624902 | I11: =E11/57446223997977*100 -> 0.066626005
A12: سایر درآمدها | C12: 2-5 | E12: ='سایر درآمدها'!E10 -> 74321933528 | G12: =E12/$E$13*100 -> 0.22573612 | I12: =E12/57446223997977*100 -> 0.12937653
E13: =SUM(E8:E12) -> 32924254730363 | G13: =SUM(G8:G12) -> 100 | I13: =SUM(I8:I12) -> 57.313175
E15: 16037423757417
E16: =E15-E13 -> -16886830972946

Sheet درآمد سرمایه گذاری در سهام
A1: صندوق سرمایه‌گذاری اختصاصی بازارگردانی لاجورد دماوند
A2: صورت وضعیت درآمدها
A3: =درآمد!A3 -> دوره یک ماهه منتهی به 30 مهر 1405
A5: 2-1- درآمد حاصل از سرمایه‌گذاری در سهام و حق تقدم سهام
C6: (مبالغ به ریال)
C7: طی مهر ماه | M7: از ابتدای سال مالی تا پایان مهر ماه
A8: سهام | C8: درآمد سود سهام | E8: درآمد تغییر ارزش | G8: درآمد فروش | I8: جمع | M8: درآمد سود سهام | O8: درآمد تغییر ارزش | Q8: درآمد فروش | S8: جمع
C9: یادداشت1-1-2 | E9: یادداشت2-1-2 | G9: یادداشت3-1-2 | I9: مبلغ | K9: درصد از کل درآمدها | M9: یادداشت1-1-2 | O9: یادداشت2-1-2 | Q9: یادداشت3-1-2 | S9: مبلغ | U9: درصد از کل درآمدها
A10: صبا فولاد خلیج فارس | C10: =IFERROR(VLOOKUP(A10,'درآمد سود سهام'!A:M,7,0),0) -> 0 | E10: =IFERROR(VLOOKUP(A10,'درآمد ناشی از تغییر قیمت اوراق'!A:Q,9,0),0) -> 536282241034 | G10: =IFERROR(VLOOKUP(A10,'درآمد ناشی از فروش'!A:Q,9,0),0) -> 0 | I10: =C10+E10+G10 -> 536282241034 | K10: =I10/10229105894299*100 -> 5.2427089 | M10: =IFERROR(VLOOKUP(A10,'درآمد سود سهام'!A:M,9,0),0) -> 144493495335 | O10: =IFERROR(VLOOKUP(A10,'درآمد ناشی از تغییر قیمت اوراق'!A:Q,17,0),0) -> 2665412476716 | Q10: =IFERROR(VLOOKUP(A10,'درآمد ناشی از فروش'!A:Q,17,0),0) -> 0 | S10: =M10+O10+Q10 -> 2809905972051 | U10: =S10/درآمد!$E$13*100 -> 8.5344558
A11: بیمه کوثر | C11: =IFERROR(VLOOKUP(A11,'درآمد سود سهام'!A:M,7,0),0) -> 0 | E11: =IFERROR(VLOOKUP(A11,'درآمد ناشی از تغییر قیمت اوراق'!A:Q,9,0),0) -> 6660808507 | G11: =IFERROR(VLOOKUP(A11,'درآمد ناشی از فروش'!A:Q,9,0),0) -> 0 | I11: =C11+E11+G11 -> 6660808507 | K11: =I11/10229105894299*100 -> 0.065116234 | M11: =IFERROR(VLOOKUP(A11,'درآمد سود سهام'!A:M,9,0),0) -> 2150282120 | O11: =IFERROR(VLOOKUP(A11,'درآمد ناشی از تغییر قیمت اوراق'!A:Q,17,0),0) -> 11510613780 | Q11: =IFERROR(VLOOKUP(A11,'درآمد ناشی از فروش'!A:Q,17,0),0) -> 0 | S11: =M11+O11+Q11 -> 13660895900 | U11: =S11/درآمد!$E$13*100 -> 0.041491891
A12: توسعه سرمایه و صنعت غدیر | C12: =IFERROR(VLOOKUP(A12,'درآمد سود سهام'!A:M,7,0),0) -> 0 | E12: =IFERROR(VLOOKUP(A12,'درآمد ناشی از تغییر قیمت اوراق'!A:Q,9,0),0) -> 1625547570104 | G12: =IFERROR(VLOOKUP(A12,'درآمد ناشی از فروش'!A:Q,9,0),0) -> 216809239320 | I12: =C12+E12+G12 -> 1842356809424 | K12: =I12/10229105894299*100 -> 18.010927 | M12: =IFERROR(VLOOKUP(A12,'درآمد سود سهام'!A:M,9,0),0) -> 0 | O12: =IFERROR(VLOOKUP(A12,'درآمد ناشی از تغییر قیمت اوراق'!A:Q,17,0),0) -> 3402377063341 | Q12: =IFERROR(VLOOKUP(A12,'درآمد ناشی از فروش'!A:Q,17,0),0) -> 2931280257465 | S12: =M12+O12+Q12 -> 6333657320806 | U12: =S12/درآمد!$E$13*100 -> 19.237056
A13: فولاد سیرجان ایرانیان | C13: =IFERROR(VLOOKUP(A13,'درآمد سود سهام'!A:M,7,0),0) -> 0 | E13: =IFERROR(VLOOKUP(A13,'درآمد ناشی از تغییر قیمت اوراق'!A:Q,9,0),0) -> 0 | G13: =IFERROR(VLOOKUP(A13,'درآمد ناشی از فروش'!A:Q,9,0),0) -> 0 | I13: =C13+E13+G13 -> 0 | K13: =I13/10229105894299*100 -> 0 | M13: =IFERROR(VLOOKUP(A13,'درآمد سود سهام'!A:M,9,0),0) -> 518726285538 | O13: =IFERROR(VLOOKUP(A13,'درآمد ناشی از تغییر قیمت اوراق'!A:Q,17,0),0) -> 0 | Q13: =IFERROR(VLOOKUP(A13,'درآمد ناشی از فروش'!A:Q,17,0),0) -> 1463842354527 | S13: =M13+O13+Q13 -> 1982568640065 | U13: =S13/درآمد!$E$13*100 -> 6.0216052
A14: آهن و فولاد غدیر ایرانیان | C14: =IFERROR(VLOOKUP(A14,'درآمد سود سهام'!A:M,7,0),0) -> 0 | E14: =IFERROR(VLOOKUP(A14,'درآمد ناشی از تغییر قیمت اوراق'!A:Q,9,0),0) -> 131589480124 | G14: =IFERROR(VLOOKUP(A14,'درآمد ناشی از فروش'!A:Q,9,0),0) -> 273658264155 | I14: =C14+E14+G14 -> 405247744279 | K14: =I14/10229105894299*100 -> 3.9617123 | M14: =IFERROR(VLOOKUP(A14,'درآمد سود سهام'!A:M,9,0),0) -> 182024576514 | O14: =IFERROR(VLOOKUP(A14,'درآمد ناشی از تغییر قیمت اوراق'!A:Q,17,0),0) -> 462296219888 | Q14: =IFERROR(VLOOKUP(A14,'درآمد ناشی از فروش'!A:Q,17,0),0) -> 984044204822 | S14: =M14+O14+Q14 -> 1628365001224 | U14: =S14/درآمد!$E$13*100 -> 4.9457915
A15: ح.فولاد سیرجان ایرانیان | C15: =IFERROR(VLOOKUP(A15,'درآمد سود سهام'!A:M,7,0),0) -> 0 | E15: =IFERROR(VLOOKUP(A15,'درآمد ناشی از تغییر قیمت اوراق'!A:Q,9,0),0) -> 0 | G15: =IFERROR(VLOOKUP(A15,'درآمد ناشی از فروش'!A:Q,9,0),0) -> 0 | I15: =C15+E15+G15 -> 0 | K15: =I15/10229105894299*100 -> 0 | M15: =IFERROR(VLOOKUP(A15,'درآمد سود سهام'!A:M,9,0),0) -> 0 | O15: =IFERROR(VLOOKUP(A15,'درآمد ناشی از تغییر قیمت اوراق'!A:Q,17,0),0) -> 0 | Q15: =IFERROR(VLOOKUP(A15,'درآمد ناشی از فروش'!A:Q,17,0),0) -> 309155044757 | S15: =M15+O15+Q15 -> 309155044757 | U15: =S15/درآمد!$E$13*100 -> 0.93898874
A16: گروه مالی نماد غدیر(سهامی عام) | C16: =IFERROR(VLOOKUP(A16,'درآمد سود سهام'!A:M,7,0),0) -> 0 | E16: =IFERROR(VLOOKUP(A16,'درآمد ناشی از تغییر قیمت اوراق'!A:Q,9,0),0) -> 1347939384391 | G16: =IFERROR(VLOOKUP(A16,'درآمد ناشی از فروش'!A:Q,9,0),0) -> 600733999209 | I16: =C16+E16+G16 -> 1948673383600 | K16: =I16/10229105894299*100 -> 19.050281 | M16: =IFERROR(VLOOKUP(A16,'درآمد سود سهام'!A:M,9,0),0) -> 0 | O16: =IFERROR(VLOOKUP(A16,'درآمد ناشی از تغییر قیمت اوراق'!A:Q,17,0),0) -> 4321554789868 | Q16: =IFERROR(VLOOKUP(A16,'درآمد ناشی از فروش'!A:Q,17,0),0) -> 1007017101789 | S16: =M16+O16+Q16 -> 5328571891657 | U16: =S16/درآمد!$E$13*100 -> 16.184336
A17: سرمایه‌گذاری‌غدیر(هلدینگ‌ | C17: =IFERROR(VLOOKUP(A17,'درآمد سود سهام'!A:M,7,0),0) -> 0 | E17: =IFERROR(VLOOKUP(A17,'درآمد ناشی از تغییر قیمت اوراق'!A:Q,9,0),0) -> -139856127556 | G17: =IFERROR(VLOOKUP(A17,'درآمد ناشی از فروش'!A:Q,9,0),0) -> 139505863325 | I17: =C17+E17+G17 -> -350264231 | K17: =I17/10229105894299*100 -> -0.0034241921 | M17: =IFERROR(VLOOKUP(A17,'درآمد سود سهام'!A:M,9,0),0) -> 128110500000 | O17: =IFERROR(VLOOKUP(A17,'درآمد ناشی از تغییر قیمت اوراق'!A:Q,17,0),0) -> 169466925359 | Q17: =IFERROR(VLOOKUP(A17,'درآمد ناشی از فروش'!A:Q,17,0),0) -> 432989088505 | S17: =M17+O17+Q17 -> 730566513864 | U17: =S17/درآمد!$E$13*100 -> 2.2189311
A18: بین المللی توسعه ص. معادن غدیر | C18: =IFERROR(VLOOKUP(A18,'درآمد سود سهام'!A:M,7,0),0) -> 0 | E18: =IFERROR(VLOOKUP(A18,'درآمد ناشی از تغییر قیمت اوراق'!A:Q,9,0),0) -> 3595875958632 | G18: =IFERROR(VLOOKUP(A18,'درآمد ناشی از فروش'!A:Q,9,0),0) -> 1089813824120 | I18: =C18+E18+G18 -> 4685689782752 | K18: =I18/10229105894299*100 -> 45.807423 | M18: =IFERROR(VLOOKUP(A18,'درآمد سود سهام'!A:M,9,0),0) -> 0 | O18: =IFERROR(VLOOKUP(A18,'درآمد ناشی از تغییر قیمت اوراق'!A:Q,17,0),0) -> 8960507015769 | Q18: =IFERROR(VLOOKUP(A18,'درآمد ناشی از فروش'!A:Q,17,0),0) -> 2105696167597 | S18: =M18+O18+Q18 -> 11066203183366 | U18: =S18/درآمد!$E$13*100 -> 33.611097
A19: فولاد خراسان | C19: =IFERROR(VLOOKUP(A19,'درآمد سود سهام'!A:M,7,0),0) -> 0 | E19: =IFERROR(VLOOKUP(A19,'درآمد ناشی از تغییر قیمت اوراق'!A:Q,9,0),0) -> 0 | G19: =IFERROR(VLOOKUP(A19,'درآمد ناشی از فروش'!A:Q,9,0),0) -> 0 | I19: =C19+E19+G19 -> 0 | K19: =I19/10229105894299*100 -> 0 | M19: =IFERROR(VLOOKUP(A19,'درآمد سود سهام'!A:M,9,0),0) -> 0 | O19: =IFERROR(VLOOKUP(A19,'درآمد ناشی از تغییر قیمت اوراق'!A:Q,17,0),0) -> 0 | Q19: =IFERROR(VLOOKUP(A19,'درآمد ناشی از فروش'!A:Q,17,0),0) -> 79420772715 | S19: =M19+O19+Q19 -> 79420772715 | U19: =S19/درآمد!$E$13*100 -> 0.24122269
A20: توسعه حمل و نقل ریلی پارسیان | C20: =IFERROR(VLOOKUP(A20,'درآمد سود سهام'!A:M,7,0),0) -> 0 | E20: =IFERROR(VLOOKUP(A20,'درآمد ناشی از تغییر قیمت اوراق'!A:Q,9,0),0) -> 1618331653 | G20: =IFERROR(VLOOKUP(A20,'درآمد ناشی از فروش'!A:Q,9,0),0) -> 20815078495 | I20: =C20+E20+G20 -> 22433410148 | K20: =I20/10229105894299*100 -> 0.21930959 | M20: =IFERROR(VLOOKUP(A20,'درآمد سود سهام'!A:M,9,0),0) -> 0 | O20: =IFERROR(VLOOKUP(A20,'درآمد ناشی از تغییر قیمت اوراق'!A:Q,17,0),0) -> 97639100855 | Q20: =IFERROR(VLOOKUP(A20,'درآمد ناشی از فروش'!A:Q,17,0),0) -> 112730170688 | S20: =M20+O20+Q20 -> 210369271543 | U20: =S20/درآمد!$E$13*100 -> 0.63894923
A21: بین‌المللی‌توسعه‌ساختمان | C21: =IFERROR(VLOOKUP(A21,'درآمد سود سهام'!A:M,7,0),0) -> 0 | E21: =IFERROR(VLOOKUP(A21,'درآمد ناشی از تغییر قیمت اوراق'!A:Q,9,0),0) -> -9448968238 | G21: =IFERROR(VLOOKUP(A21,'درآمد ناشی از فروش'!A:Q,9,0),0) -> 40422718930 | I21: =C21+E21+G21 -> 30973750692 | K21: =I21/10229105894299*100 -> 0.30280018 | M21: =IFERROR(VLOOKUP(A21,'درآمد سود سهام'!A:M,9,0),0) -> 0 | O21: =IFERROR(VLOOKUP(A21,'درآمد ناشی از تغییر قیمت اوراق'!A:Q,17,0),0) -> 55302504113 | Q21: =IFERROR(VLOOKUP(A21,'درآمد ناشی از فروش'!A:Q,17,0),0) -> 110477129678 | S21: =M21+O21+Q21 -> 165779633791 | U21: =S21/درآمد!$E$13*100 -> 0.50351826
... A28: حفاری شمال | C28: =IFERROR(VLOOKUP(A28,'درآمد سود سهام'!A:M,7,0),0) -> 0 | E28: =IFERROR(VLOOKUP(A28,'درآمد ناشی از تغییر قیمت اوراق'!A:Q,9,0),0) -> 0 | G28: =IFERROR(VLOOKUP(A28,'درآمد ناشی از فروش'!A:Q,9,0),0) -> 0 | I28: =C28+E28+G28 -> 0 | K28: =I28/10229105894299*100 -> 0 | M28: =IFERROR(VLOOKUP(A28,'درآمد سود سهام'!A:M,9,0),0) -> 0 | O28: =IFERROR(VLOOKUP(A28,'درآمد ناشی از تغییر قیمت اوراق'!A:Q,17,0),0) -> 0 | Q28: =IFERROR(VLOOKUP(A28,'درآمد ناشی از فروش'!A:Q,17,0),0) -> -4102446480 | S28: =M28+O28+Q28 -> -4102446480 | U28: =S28/درآمد!$E$13*100 -> -0.012460256
A29: اختیارخ وغدیر-15000-1404/12/06(ضغدر12061) | C29: =IFERROR(VLOOKUP(A29,'درآمد سود سهام'!A:M,7,0),0) -> 0 | E29: =IFERROR(VLOOKUP(A29,'درآمد ناشی از تغییر قیمت اوراق'!A:Q,9,0),0) -> 0 | G29: =IFERROR(VLOOKUP(A29,'درآمد ناشی از فروش'!A:Q,9,0),0) -> 0 | I29: =C29+E29+G29 -> 0 | K29: =I29/10229105894299*100 -> 0 | M29: =IFERROR(VLOOKUP(A29,'درآمد سود سهام'!A:M,9,0),0) -> 0 | O29: =IFERROR(VLOOKUP(A29,'درآمد ناشی از تغییر قیمت اوراق'!A:Q,17,0),0) -> 0 | Q29: =IFERROR(VLOOKUP(A29,'درآمد اعمال اختیار'!A:Q,17,0),0) -> 2211972504 | S29: =M29+O29+Q29 -> 2211972504 | U29: =S29/درآمد!$E$13*100 -> 0.0067183677
A30: اختیارخ وغدیر-14000-1404/12/06(ضغدر12051) | C30: =IFERROR(VLOOKUP(A30,'درآمد سود سهام'!A:M,7,0),0) -> 0 | E30: =IFERROR(VLOOKUP(A30,'درآمد ناشی از تغییر قیمت اوراق'!A:Q,9,0),0) -> 0 | G30: =IFERROR(VLOOKUP(A30,'درآمد ناشی از فروش'!A:Q,9,0),0) -> 0 | I30: =C30+E30+G30 -> 0 | K30: =I30/10229105894299*100 -> 0 | M30: =IFERROR(VLOOKUP(A30,'درآمد سود سهام'!A:M,9,0),0) -> 0 | O30: =IFERROR(VLOOKUP(A30,'درآمد ناشی از تغییر قیمت اوراق'!A:Q,17,0),0) -> 0 | Q30: =IFERROR(VLOOKUP(A30,'درآمد اعمال اختیار'!A:Q,17,0),0) -> 1771729379 | S30: =M30+O30+Q30 -> 1771729379 | U30: =S30/درآمد!$E$13*100 -> 0.0053812285
A31: اختیارخ وغدیر-13000-1404/12/06(ضغدر12041) | C31: =IFERROR(VLOOKUP(A31,'درآمد سود سهام'!A:M,7,0),0) -> 0 | E31: =IFERROR(VLOOKUP(A31,'درآمد ناشی از تغییر قیمت اوراق'!A:Q,9,0),0) -> 0 | G31: =IFERROR(VLOOKUP(A31,'درآمد ناشی از فروش'!A:Q,9,0),0) -> 0 | I31: =C31+E31+G31 -> 0 | K31: =I31/10229105894299*100 -> 0 | M31: =IFERROR(VLOOKUP(A31,'درآمد سود سهام'!A:M,9,0),0) -> 0 | O31: =IFERROR(VLOOKUP(A31,'درآمد ناشی از تغییر قیمت اوراق'!A:Q,17,0),0) -> 0 | Q31: =IFERROR(VLOOKUP(A31,'درآمد اعمال اختیار'!A:Q,17,0),0) -> 448433437 | S31: =M31+O31+Q31 -> 448433437 | U31: =S31/درآمد!$E$13*100 -> 0.0013620155
A32: اختیارخ وغدیر-15000-1405/02/02(ضغدر20341) | C32: =IFERROR(VLOOKUP(A32,'درآمد سود سهام'!A:M,7,0),0) -> 0 | E32: =IFERROR(VLOOKUP(A32,'درآمد ناشی از تغییر قیمت اوراق'!A:Q,9,0),0) -> 0 | G32: =IFERROR(VLOOKUP(A32,'درآمد ناشی از فروش'!A:Q,9,0),0) -> 0 | I32: =C32+E32+G32 -> 0 | K32: =I32/10229105894299*100 -> 0 | M32: =IFERROR(VLOOKUP(A32,'درآمد سود سهام'!A:M,9,0),0) -> 0 | O32: =IFERROR(VLOOKUP(A32,'درآمد ناشی از تغییر قیمت اوراق'!A:Q,17,0),0) -> 0 | Q32: =IFERROR(VLOOKUP(A32,'درآمد اعمال اختیار'!A:Q,17,0),0) -> 191445985 | S32: =M32+O32+Q32 -> 191445985 | U32: =S32/درآمد!$E$13*100 -> 0.00058147401
A33: اختیارخ وغدیر-18000-1404/12/06(ضغدر12081) | C33: =IFERROR(VLOOKUP(A33,'درآمد سود سهام'!A:M,7,0),0) -> 0 | E33: =IFERROR(VLOOKUP(A33,'درآمد ناشی از تغییر قیمت اوراق'!A:Q,9,0),0) -> 0 | G33: =IFERROR(VLOOKUP(A33,'درآمد ناشی از فروش'!A:Q,9,0),0) -> 0 | I33: =C33+E33+G33 -> 0 | K33: =I33/10229105894299*100 -> 0 | M33: =IFERROR(VLOOKUP(A33,'درآمد سود سهام'!A:M,9,0),0) -> 0 | O33: =IFERROR(VLOOKUP(A33,'درآمد ناشی از تغییر قیمت اوراق'!A:Q,17,0),0) -> 0 | Q33: =IFERROR(VLOOKUP(A33,'درآمد اعمال اختیار'!A:Q,17,0),0) -> 116429954 | S33: =M33+O33+Q33 -> 116429954 | U33: =S33/درآمد!$E$13*100 -> 0.00035362973
A34: اختیارخ وغدیر-16000-1405/02/02(ضغدر20351) | C34: =IFERROR(VLOOKUP(A34,'درآمد سود سهام'!A:M,7,0),0) -> 0 | E34: =IFERROR(VLOOKUP(A34,'درآمد ناشی از تغییر قیمت اوراق'!A:Q,9,0),0) -> 0 | G34: =IFERROR(VLOOKUP(A34,'درآمد ناشی از فروش'!A:Q,9,0),0) -> 0 | I34: =C34+E34+G34 -> 0 | K34: =I34/10229105894299*100 -> 0 | M34: =IFERROR(VLOOKUP(A34,'درآمد سود سهام'!A:M,9,0),0) -> 0 | O34: =IFERROR(VLOOKUP(A34,'درآمد ناشی از تغییر قیمت اوراق'!A:Q,17,0),0) -> 0 | Q34: =IFERROR(VLOOKUP(A34,'درآمد اعمال اختیار'!A:Q,17,0),0) -> 22976310 | S34: =M34+O34+Q34 -> 22976310 | U34: =S34/درآمد!$E$13*100 -> 6.9785361e-05
A35: اختیارخ وغدیر-16000-1404/12/06(ضغدر12071) | C35: =IFERROR(VLOOKUP(A35,'درآمد سود سهام'!A:M,7,0),0) -> 0 | E35: =IFERROR(VLOOKUP(A35,'درآمد ناشی از تغییر قیمت اوراق'!A:Q,9,0),0) -> 0 | G35: =IFERROR(VLOOKUP(A35,'درآمد ناشی از فروش'!A:Q,9,0),0) -> 0 | I35: =C35+E35+G35 -> 0 | K35: =I35/10229105894299*100 -> 0 | M35: =IFERROR(VLOOKUP(A35,'درآمد سود سهام'!A:M,9,0),0) -> 0 | O35: =IFERROR(VLOOKUP(A35,'درآمد ناشی از تغییر قیمت اوراق'!A:Q,17,0),0) -> 0 | Q35: =IFERROR(VLOOKUP(A35,'درآمد اعمال اختیار'!A:Q,17,0),0) -> 20555312 | S35: =M35+O35+Q35 -> 20555312 | U35: =S35/درآمد!$E$13*100 -> 6.2432125e-05
A36: اختیارخ وغدیر-18000-1405/02/02(ضغدر20361) | C36: =IFERROR(VLOOKUP(A36,'درآمد سود سهام'!A:M,7,0),0) -> 0 | E36: =IFERROR(VLOOKUP(A36,'درآمد ناشی از تغییر قیمت اوراق'!A:Q,9,0),0) -> 0 | G36: =IFERROR(VLOOKUP(A36,'درآمد ناشی از فروش'!A:Q,9,0),0) -> 0 | I36: =C36+E36+G36 -> 0 | K36: =I36/10229105894299*100 -> 0 | M36: =IFERROR(VLOOKUP(A36,'درآمد سود سهام'!A:M,9,0),0) -> 0 | O36: =IFERROR(VLOOKUP(A36,'درآمد ناشی از تغییر قیمت اوراق'!A:Q,17,0),0) -> 0 | Q36: =IFERROR(VLOOKUP(A36,'درآمد اعمال اختیار'!A:Q,17,0),0) -> 8990730 | S36: =M36+O36+Q36 -> 8990730 | U36: =S36/درآمد!$E$13*100 -> 2.7307315e-05
C37: =SUM(C10:C36) -> 0 | E37: =SUM(E10:E36) -> 7588550852729 | G37: =SUM(G10:G36) -> 2435305461169 | I37: =SUM(I10:I36) -> 10023856313898 | K37: =SUM(K10:K36) -> 97.993475 | M37: =SUM(M10:M36) -> 1220216225487 | O37: =SUM(O10:O36) -> 20881683652953 | Q37: =SUM(Q10:Q36) -> 9638219204548 | S37: =SUM(S10:S36) -> 31740119082988 | U37: =SUM(U10:U36) -> 96.403455

Sheet درآمد سرمایه گذاری در صندوق
A1: صندوق سرمایه‌گذاری اختصاصی بازارگردانی لاجورد دماوند
A2: صورت وضعیت درآمدها
A3: =درآمد!A3 -> دوره یک ماهه منتهی به 30 مهر 1405
A5: 2-2- درآمد حاصل از سرمایه‌گذاری در واحدهای صندوق
C6: (مبالغ به ریال)
C7: ='درآمد سرمایه گذاری در سهام'!C7 -> طی مهر ماه | M7: ='درآمد سرمایه گذاری در سهام'!M7 -> از ابتدای سال مالی تا پایان مهر ماه
A8: صندوق | C8: درآمد سود صندوق | E8: درآمد تغییر ارزش | G8: درآمد فروش | I8: جمع | M8: درآمد سود صندوق | O8: درآمد تغییر ارزش | Q8: درآمد فروش | S8: جمع
C9: یادداشت1-2-2 | E9: یادداشت2-2-2 | G9: یادداشت3-2-2 | I9: مبلغ | K9: درصد از کل درآمدها | M9: یادداشت1-2-2 | O9: یادداشت2-2-2 | Q9: یادداشت3-2-2 | S9: مبلغ | U9: درصد از کل درآمدها
A10: صندوق س. سپید دماوند-د | C10: =IFERROR(VLOOKUP(A10,'درآمد سود صندوق'!A:K,9,0),0) -> 0 | E10: =IFERROR(VLOOKUP(A10,'درآمد ناشی از تغییر قیمت اوراق'!A:Q,9,0),0) -> 44773346858 | G10: =IFERROR(VLOOKUP(A10,'درآمد ناشی از فروش'!A:Q,9,0),0) -> 26949009855 | I10: =C10+E10+G10 -> 71722356713 | K10: =I10/10229105894299*100 -> 0.70115959 | M10: =IFERROR(VLOOKUP(A10,'درآمد سود صندوق'!A:K,11,0),0) -> 0 | O10: =IFERROR(VLOOKUP(A10,'درآمد ناشی از تغییر قیمت اوراق'!A:Q,17,0),0) -> 71067362828 | Q10: =IFERROR(VLOOKUP(A10,'درآمد ناشی از فروش'!A:Q,17,0),0) -> 370421065173 | S10: =M10+O10+Q10 -> 441488428001 | U10: =S10/درآمد!$E$13*100 -> 1.3409216
A11: صندوق س سپر سرمایه بیدار- ثابت | C11: =IFERROR(VLOOKUP(A11,'درآمد سود صندوق'!A:K,9,0),0) -> 0 | E11: =IFERROR(VLOOKUP(A11,'درآمد ناشی از تغییر قیمت اوراق'!A:Q,9,0),0) -> 8298038968 | G11: =IFERROR(VLOOKUP(A11,'درآمد ناشی از فروش'!A:Q,9,0),0) -> 0 | I11: =C11+E11+G11 -> 8298038968 | K11: =I11/10229105894299*100 -> 0.08112184 | M11: =IFERROR(VLOOKUP(A11,'درآمد سود صندوق'!A:K,11,0),0) -> 0 | O11: =IFERROR(VLOOKUP(A11,'درآمد ناشی از تغییر قیمت اوراق'!A:Q,17,0),0) -> 62064165396 | Q11: =IFERROR(VLOOKUP(A11,'درآمد ناشی از فروش'!A:Q,17,0),0) -> 44110315 | S11: =M11+O11+Q11 -> 62108275711 | U11: =S11/درآمد!$E$13*100 -> 0.18863988
A12: صندوق س.درآمد ثابت سام-د | C12: =IFERROR(VLOOKUP(A12,'درآمد سود صندوق'!A:K,9,0),0) -> 0 | E12: =IFERROR(VLOOKUP(A12,'درآمد ناشی از تغییر قیمت اوراق'!A:Q,9,0),0) -> 630767319 | G12: =IFERROR(VLOOKUP(A12,'درآمد ناشی از فروش'!A:Q,9,0),0) -> 0 | I12: =C12+E12+G12 -> 630767319 | K12: =I12/10229105894299*100 -> 0.0061663974 | M12: =IFERROR(VLOOKUP(A12,'درآمد سود صندوق'!A:K,11,0),0) -> 0 | O12: =IFERROR(VLOOKUP(A12,'درآمد ناشی از تغییر قیمت اوراق'!A:Q,17,0),0) -> 2302340667 | Q12: =IFERROR(VLOOKUP(A12,'درآمد ناشی از فروش'!A:Q,17,0),0) -> 0 | S12: =M12+O12+Q12 -> 2302340667 | U12: =S12/درآمد!$E$13*100 -> 0.0069928406
A13: صندوق ص.س.درآمد ثابت اطمینان هیوا-د | C13: =IFERROR(VLOOKUP(A13,'درآمد سود صندوق'!A:K,9,0),0) -> 0 | E13: =IFERROR(VLOOKUP(A13,'درآمد ناشی از تغییر قیمت اوراق'!A:Q,9,0),0) -> 27945484873 | G13: =IFERROR(VLOOKUP(A13,'درآمد ناشی از فروش'!A:Q,9,0),0) -> 0 | I13: =C13+E13+G13 -> 27945484873 | K13: =I13/10229105894299*100 -> 0.27319577 | M13: =IFERROR(VLOOKUP(A13,'درآمد سود صندوق'!A:K,11,0),0) -> 0 | O13: =IFERROR(VLOOKUP(A13,'درآمد ناشی از تغییر قیمت اوراق'!A:Q,17,0),0) -> 136465924986 | Q13: =IFERROR(VLOOKUP(A13,'درآمد ناشی از فروش'!A:Q,17,0),0) -> 0 | S13: =M13+O13+Q13 -> 136465924986 | U13: =S13/درآمد!$E$13*100 -> 0.41448448
A14: ص.س.درآمد ثابت رایا پایدار-د | C14: =IFERROR(VLOOKUP(A14,'درآمد سود صندوق'!A:K,9,0),0) -> 0 | E14: =IFERROR(VLOOKUP(A14,'درآمد ناشی از تغییر قیمت اوراق'!A:Q,9,0),0) -> 625769162 | G14: =IFERROR(VLOOKUP(A14,'درآمد ناشی از فروش'!A:Q,9,0),0) -> 0 | I14: =C14+E14+G14 -> 625769162 | K14: =I14/10229105894299*100 -> 0.0061175353 | M14: =IFERROR(VLOOKUP(A14,'درآمد سود صندوق'!A:K,11,0),0) -> 0 | O14: =IFERROR(VLOOKUP(A14,'درآمد ناشی از تغییر قیمت اوراق'!A:Q,17,0),0) -> 2533687637 | Q14: =IFERROR(VLOOKUP(A14,'درآمد ناشی از فروش'!A:Q,17,0),0) -> 0 | S14: =M14+O14+Q14 -> 2533687637 | U14: =S14/درآمد!$E$13*100 -> 0.0076955049
A15: ص.س.درآمد ثابت آبی هامون-د | C15: =IFERROR(VLOOKUP(A15,'درآمد سود صندوق'!A:K,9,0),0) -> 0 | E15: =IFERROR(VLOOKUP(A15,'درآمد ناشی از تغییر قیمت اوراق'!A:Q,9,0),0) -> 7114875577 | G15: =IFERROR(VLOOKUP(A15,'درآمد ناشی از فروش'!A:Q,9,0),0) -> 5891593750 | I15: =C15+E15+G15 -> 13006469327 | K15: =I15/10229105894299*100 -> 0.12715158 | M15: =IFERROR(VLOOKUP(A15,'درآمد سود صندوق'!A:K,11,0),0) -> 0 | O15: =IFERROR(VLOOKUP(A15,'درآمد ناشی از تغییر قیمت اوراق'!A:Q,17,0),0) -> 10996100061 | Q15: =IFERROR(VLOOKUP(A15,'درآمد ناشی از فروش'!A:Q,17,0),0) -> 5891593750 | S15: =M15+O15+Q15 -> 16887693811 | U15: =S15/درآمد!$E$13*100 -> 0.051292562
A16: صندوق س.درآمد ثابت خاورمیانه-د | C16: =IFERROR(VLOOKUP(A16,'درآمد سود صندوق'!A:K,9,0),0) -> 0 | E16: =IFERROR(VLOOKUP(A16,'درآمد ناشی از تغییر قیمت اوراق'!A:Q,9,0),0) -> -88500000 | G16: =IFERROR(VLOOKUP(A16,'درآمد ناشی از فروش'!A:Q,9,0),0) -> 0 | I16: =C16+E16+G16 -> -88500000 | K16: =I16/10229105894299*100 -> -0.00086517826 | M16: =IFERROR(VLOOKUP(A16,'درآمد سود صندوق'!A:K,11,0),0) -> 0 | O16: =IFERROR(VLOOKUP(A16,'درآمد ناشی از تغییر قیمت اوراق'!A:Q,17,0),0) -> -88500000 | Q16: =IFERROR(VLOOKUP(A16,'درآمد ناشی از فروش'!A:Q,17,0),0) -> 0 | S16: =M16+O16+Q16 -> -88500000 | U16: =S16/درآمد!$E$13*100 -> -0.0002687988
A17: ص.س.درآمد ثابت برلیان شهر-د | C17: =IFERROR(VLOOKUP(A17,'درآمد سود صندوق'!A:K,9,0),0) -> 0 | E17: =IFERROR(VLOOKUP(A17,'درآمد ناشی از تغییر قیمت اوراق'!A:Q,9,0),0) -> -1928533150 | G17: =IFERROR(VLOOKUP(A17,'درآمد ناشی از فروش'!A:Q,9,0),0) -> 2040625000 | I17: =C17+E17+G17 -> 112091850 | K17: =I17/10229105894299*100 -> 0.0010958128 | M17: =IFERROR(VLOOKUP(A17,'درآمد سود صندوق'!A:K,11,0),0) -> 0 | O17: =IFERROR(VLOOKUP(A17,'درآمد ناشی از تغییر قیمت اوراق'!A:Q,17,0),0) -> 0 | Q17: =IFERROR(VLOOKUP(A17,'درآمد ناشی از فروش'!A:Q,17,0),0) -> 2040625000 | S17: =M17+O17+Q17 -> 2040625000 | U17: =S17/درآمد!$E$13*100 -> 0.0061979383
A18: صندوق س. نوع دوم اعتبار-د | C18: =IFERROR(VLOOKUP(A18,'درآمد سود صندوق'!A:K,9,0),0) -> 0 | E18: =IFERROR(VLOOKUP(A18,'درآمد ناشی از تغییر قیمت اوراق'!A:Q,9,0),0) -> -41399407314 | G18: =IFERROR(VLOOKUP(A18,'درآمد ناشی از فروش'!A:Q,9,0),0) -> 73671926455 | I18: =C18+E18+G18 -> 32272519141 | K18: =I18/10229105894299*100 -> 0.31549697 | M18: =IFERROR(VLOOKUP(A18,'درآمد سود صندوق'!A:K,11,0),0) -> 0 | O18: =IFERROR(VLOOKUP(A18,'درآمد ناشی از تغییر قیمت اوراق'!A:Q,17,0),0) -> 0 | Q18: =IFERROR(VLOOKUP(A18,'درآمد ناشی از فروش'!A:Q,17,0),0) -> 73671926455 | S18: =M18+O18+Q18 -> 73671926455 | U18: =S18/درآمد!$E$13*100 -> 0.22376187
A19: صندوق اندیشه ورزان صباتامین -د | C19: =IFERROR(VLOOKUP(A19,'درآمد سود صندوق'!A:K,9,0),0) -> 0 | E19: =IFERROR(VLOOKUP(A19,'درآمد ناشی از تغییر قیمت اوراق'!A:Q,9,0),0) -> 0 | G19: =IFERROR(VLOOKUP(A19,'درآمد ناشی از فروش'!A:Q,9,0),0) -> 0 | I19: =C19+E19+G19 -> 0 | K19: =I19/10229105894299*100 -> 0 | M19: ='درآمد سود صندوق'!K10 -> 429000000 | O19: =IFERROR(VLOOKUP(A19,'درآمد ناشی از تغییر قیمت اوراق'!A:Q,17,0),0) -> 0 | Q19: =IFERROR(VLOOKUP(A19,'درآمد ناشی از فروش'!A:Q,17,0),0) -> 7177154713 | S19: =M19+O19+Q19 -> 7606154713 | U19: =S19/درآمد!$E$13*100 -> 0.02310198
A20: صندوق س. با درآمد ثابت مانی | C20: =IFERROR(VLOOKUP(A20,'درآمد سود صندوق'!A:K,9,0),0) -> 0 | E20: =IFERROR(VLOOKUP(A20,'درآمد ناشی از تغییر قیمت اوراق'!A:Q,9,0),0) -> 0 | G20: =IFERROR(VLOOKUP(A20,'درآمد ناشی از فروش'!A:Q,9,0),0) -> 0 | I20: =C20+E20+G20 -> 0 | K20: =I20/10229105894299*100 -> 0 | M20: ='درآمد سود صندوق'!K11 -> 0 | O20: =IFERROR(VLOOKUP(A20,'درآمد ناشی از تغییر قیمت اوراق'!A:Q,17,0),0) -> 0 | Q20: =IFERROR(VLOOKUP(A20,'درآمد ناشی از فروش'!A:Q,17,0),0) -> 1019589170 | S20: =M20+O20+Q20 -> 1019589170 | U20: =S20/درآمد!$E$13*100 -> 0.0030967722
A21: صندوق س. ارزش پاداش-د | C21: =IFERROR(VLOOKUP(A21,'درآمد سود صندوق'!A:K,9,0),0) -> 0 | E21: =IFERROR(VLOOKUP(A21,'درآمد ناشی از تغییر قیمت اوراق'!A:Q,9,0),0) -> 0 | G21: =IFERROR(VLOOKUP(A21,'درآمد ناشی از فروش'!A:Q,9,0),0) -> 0 | I21: =C21+E21+G21 -> 0 | K21: =I21/10229105894299*100 -> 0 | M21: 0 | O21: =IFERROR(VLOOKUP(A21,'درآمد ناشی از تغییر قیمت اوراق'!A:Q,17,0),0) -> 0 | Q21: =IFERROR(VLOOKUP(A21,'درآمد ناشی از فروش'!A:Q,17,0),0) -> 18259156890 | S21: =M21+O21+Q21 -> 18259156890 | U21: =S21/درآمد!$E$13*100 -> 0.055458072
A22: صندوق س. نوع دوم نیلی دماوند-د | C22: =IFERROR(VLOOKUP(A22,'درآمد سود صندوق'!A:K,9,0),0) -> 0 | E22: =IFERROR(VLOOKUP(A22,'درآمد ناشی از تغییر قیمت اوراق'!A:Q,9,0),0) -> 0 | G22: =IFERROR(VLOOKUP(A22,'درآمد ناشی از فروش'!A:Q,9,0),0) -> 0 | I22: =C22+E22+G22 -> 0 | K22: =I22/10229105894299*100 -> 0 | M22: ='درآمد سود صندوق'!K13 -> 0 | O22: =IFERROR(VLOOKUP(A22,'درآمد ناشی از تغییر قیمت اوراق'!A:Q,17,0),0) -> 0 | Q22: =IFERROR(VLOOKUP(A22,'درآمد ناشی از فروش'!A:Q,17,0),0) -> -50105687 | S22: =M22+O22+Q22 -> -50105687 | U22: =S22/درآمد!$E$13*100 -> -0.00015218473
A23: صندوق س.طلوع نوین ثابت-د | C23: =IFERROR(VLOOKUP(A23,'درآمد سود صندوق'!A:K,9,0),0) -> 0 | E23: =IFERROR(VLOOKUP(A23,'درآمد ناشی از تغییر قیمت اوراق'!A:Q,9,0),0) -> 0 | G23: =IFERROR(VLOOKUP(A23,'درآمد ناشی از فروش'!A:Q,9,0),0) -> 0 | I23: =C23+E23+G23 -> 0 | K23: =I23/10229105894299*100 -> 0 | M23: ='درآمد سود صندوق'!K14 -> 0 | O23: =IFERROR(VLOOKUP(A23,'درآمد ناشی از تغییر قیمت اوراق'!A:Q,17,0),0) -> 0 | Q23: =IFERROR(VLOOKUP(A23,'درآمد ناشی از فروش'!A:Q,17,0),0) -> 39071468215 | S23: =M23+O23+Q23 -> 39071468215 | U23: =S23/درآمد!$E$13*100 -> 0.11867077
A24: صندوق س.درآمدثابت شمیم تابان-د | C24: =IFERROR(VLOOKUP(A24,'درآمد سود صندوق'!A:K,9,0),0) -> 0 | E24: =IFERROR(VLOOKUP(A24,'درآمد ناشی از تغییر قیمت اوراق'!A:Q,9,0),0) -> 9286974164 | G24: =IFERROR(VLOOKUP(A24,'درآمد ناشی از فروش'!A:Q,9,0),0) -> 0 | I24: =C24+E24+G24 -> 9286974164 | K24: =I24/10229105894299*100 -> 0.090789696 | M24: 0 | O24: =IFERROR(VLOOKUP(A24,'درآمد ناشی از تغییر قیمت اوراق'!A:Q,17,0),0) -> 29414383936 | Q24: =IFERROR(VLOOKUP(A24,'درآمد ناشی از فروش'!A:Q,17,0),0) -> 70875950736 | S24: =M24+O24+Q24 -> 100290334672 | U24: =S24/درآمد!$E$13*100 -> 0.30460928
A25: صندوق ص.س.د.ثابت ماه آفرید سپینود-د | C25: =IFERROR(VLOOKUP(A25,'درآمد سود صندوق'!A:K,9,0),0) -> 0 | E25: =IFERROR(VLOOKUP(A25,'درآمد ناشی از تغییر قیمت اوراق'!A:Q,9,0),0) -> 0 | G25: =IFERROR(VLOOKUP(A25,'درآمد ناشی از فروش'!A:Q,9,0),0) -> 0 | I25: =C25+E25+G25 -> 0 | K25: =I25/10229105894299*100 -> 0 | M25: ='درآمد سود صندوق'!K16 -> 0 | O25: =IFERROR(VLOOKUP(A25,'درآمد ناشی از تغییر قیمت اوراق'!A:Q,17,0),0) -> 0 | Q25: =IFERROR(VLOOKUP(A25,'درآمد ناشی از فروش'!A:Q,17,0),0) -> 10444528218 | S25: =M25+O25+Q25 -> 10444528218 | U25: =S25/درآمد!$E$13*100 -> 0.031722899
A26: صندوق س. جام سبز سهند-س | C26: =IFERROR(VLOOKUP(A26,'درآمد سود صندوق'!A:K,9,0),0) -> 0 | E26: =IFERROR(VLOOKUP(A26,'درآمد ناشی از تغییر قیمت اوراق'!A:Q,9,0),0) -> 0 | G26: =IFERROR(VLOOKUP(A26,'درآمد ناشی از فروش'!A:Q,9,0),0) -> 0 | I26: =C26+E26+G26 -> 0 | K26: =I26/10229105894299*100 -> 0 | M26: ='درآمد سود صندوق'!K17 -> 0 | O26: =IFERROR(VLOOKUP(A26,'درآمد ناشی از تغییر قیمت اوراق'!A:Q,17,0),0) -> 0 | Q26: =IFERROR(VLOOKUP(A26,'درآمد ناشی از فروش'!A:Q,17,0),0) -> 3659996526 | S26: =M26+O26+Q26 -> 3659996526 | U26: =S26/درآمد!$E$13*100 -> 0.011116414
C27: =SUM(C10:C26) -> 0 | E27: =SUM(E10:E26) -> 55258816457 | G27: =SUM(G10:G26) -> 108553155060 | I27: =SUM(I10:I26) -> 163811971517 | K27: =SUM(K10:K26) -> 1.60143 | M27: =SUM(M10:M26) -> 429000000 | O27: =SUM(O10:O26) -> 314755465511 | Q27: =SUM(Q10:Q26) -> 602527059474 | S27: =SUM(S10:S26) -> 917711524985 | U27: =SUM(U10:U26) -> 2.7873418

Sheet درآمد سرمایه گذاری در اوراق به
A1: صندوق سرمایه‌گذاری اختصاصی بازارگردانی لاجورد دماوند
A2: صورت وضعیت درآمدها
A3: =درآمد!A3 -> دوره یک ماهه منتهی به 30 مهر 1405
A5: 2-3- درآمد حاصل از سرمایه‌گذاری در اوراق بهادار با درآمد ثابت:
C6: (مبالغ به ریال)
C7: ='درآمد سرمایه گذاری در سهام'!C7 -> طی مهر ماه | M7: ='درآمد سرمایه گذاری در سهام'!M7 -> از ابتدای سال مالی تا پایان مهر ماه
A8: اوراق بهادار با درآمد ثابت | C8: درآمد سود اوراق | E8: درآمد تغییر ارزش | G8: درآمد فروش | I8: جمع | M8: درآمد سود اوراق | O8: درآمد تغییر ارزش | Q8: درآمد فروش | S8: جمع
C9: یادداشت1-3-2 | E9: یادداشت2-3-2 | G9: یادداشت3-3-2 | I9: مبلغ | K9: درصد از کل درآمدها | M9: یادداشت1-3-2 | O9: یادداشت2-3-2 | Q9: یادداشت3-3-2 | S9: مبلغ | U9: درصد از کل درآمدها
A10: مرابحه پدیده شیمی غرب 14060704 | C10: =IFERROR(VLOOKUP(A10,'سود اوراق بهادار'!A:M,3,0),0) -> 28045560277 | E10: =IFERROR(VLOOKUP(A10,'درآمد ناشی از تغییر قیمت اوراق'!A:Q,9,0),0) -> 1001691430 | G10: =IFERROR(VLOOKUP(A10,'درآمد ناشی از فروش'!A:Q,9,0),0) -> -207816430 | I10: =C10+E10+G10 -> 28839435277 | K10: =I10/10229105894299*100 -> 0.28193505 | M10: =IFERROR(VLOOKUP(A10,'سود اوراق بهادار'!A:M,9,0),0) -> 154622830473 | O10: =IFERROR(VLOOKUP(A10,'درآمد ناشی از تغییر قیمت اوراق'!A:Q,17,0),0) -> -591638945 | Q10: =IFERROR(VLOOKUP(A10,'درآمد ناشی از فروش'!A:Q,17,0),0) -> -207081049 | S10: =M10+O10+Q10 -> 153824110479 | U10: =S10/درآمد!$E$13*100 -> 0.46720605
A11: صکوک اجاره گل گهر504-3ماهه23% | C11: =IFERROR(VLOOKUP(A11,'سود اوراق بهادار'!A:M,3,0),0) -> 0 | E11: =IFERROR(VLOOKUP(A11,'درآمد ناشی از تغییر قیمت اوراق'!A:Q,9,0),0) -> 0 | G11: =IFERROR(VLOOKUP(A11,'درآمد ناشی از فروش'!A:Q,9,0),0) -> 0 | I11: =C11+E11+G11 -> 0 | K11: =I11/10229105894299*100 -> 0 | M11: =IFERROR(VLOOKUP(A11,'سود اوراق بهادار'!A:M,9,0),0) -> 3881554 | O11: =IFERROR(VLOOKUP(A11,'درآمد ناشی از تغییر قیمت اوراق'!A:Q,17,0),0) -> 0 | Q11: =IFERROR(VLOOKUP(A11,'درآمد ناشی از فروش'!A:Q,17,0),0) -> 72500 | S11: =M11+O11+Q11 -> 3954054 | U11: =S11/درآمد!$E$13*100 -> 1.2009547e-05
C12: =SUM(C10:C11) -> 28045560277 | E12: =SUM(E10:E11) -> 1001691430 | G12: =SUM(G10:G11) -> -207816430 | I12: =SUM(I10:I11) -> 28839435277 | K12: =SUM(K10:K11) -> 0.28193505 | M12: =SUM(M10:M11) -> 154626712027 | O12: =SUM(O10:O11) -> -591638945 | Q12: =SUM(Q10:Q11) -> -207008549 | S12: =SUM(S10:S11) -> 153828064533 | U12: =SUM(U10:U11) -> 0.46721806
C14: 14731797956 | E14: ='درآمد ناشی از تغییر قیمت اوراق'!I46 -> 1001691430 | G14: ='درآمد ناشی از فروش'!I53 -> -207816430 | M14: 93352772901 | O14: ='درآمد ناشی از تغییر قیمت اوراق'!Q46 -> -591638945 | Q14: 10432881
C15: =C14-C12 -> -13313762321 | E15: =E14-E12 -> 0 | G15: =G14-G12 -> 0 | M15: =M14-M12 -> -61273939126 | O15: =O14-O12 -> 0 | Q15: =Q14-Q12 -> 217441430

Sheet درآمد سپرده بانکی
A1: صندوق سرمایه‌گذاری اختصاصی بازارگردانی لاجورد دماوند
A2: صورت وضعیت درآمدها
A3: =درآمد!A3 -> دوره یک ماهه منتهی به 30 مهر 1405
A5: 2-4- درآمد حاصل از سرمایه‌گذاری در سپرده بانکی و گواهی سپرده
C6: (مبالغ به ریال)
C7: ='درآمد سرمایه گذاری در سهام'!C7 -> طی مهر ماه | G7: ='درآمد سرمایه گذاری در سهام'!M7 -> از ابتدای سال مالی تا پایان مهر ماه
A8: نام سپرده بانکی | C8: سود سپرده بانکی و گواهی سپرده | E8: درصد سود به میانگین سپرده | G8: سود سپرده بانکی و گواهی سپرده | I8: درصد سود به میانگین سپرده
C9: یادداشت1-4-2 | G9: یادداشت1-4-2
A10: گردشگری | C10: =IFERROR(VLOOKUP(A10,'سود سپرده بانکی'!A:M,3,0),0) -> 12598173607 | E10: =C10/$C$13*100 -> 100 | G10: =IFERROR(VLOOKUP(A10,'سود سپرده بانکی'!A:M,9,0),0) -> 37711496159 | I10: =G10/$G$13*100 -> 98.530004
A11: بانک سینا | C11: =IFERROR(VLOOKUP(A11,'سود سپرده بانکی'!A:M,3,0),0) -> 0 | E11: =C11/$C$13*100 -> 0 | G11: =IFERROR(VLOOKUP(A11,'سود سپرده بانکی'!A:M,9,0),0) -> 530374870 | I11: =G11/$G$13*100 -> 1.385727
A12: بانک تجارت | C12: =IFERROR(VLOOKUP(A12,'سود سپرده بانکی'!A:M,3,0),0) -> 0 | E12: =C12/$C$13*100 -> 0 | G12: =IFERROR(VLOOKUP(A12,'سود سپرده بانکی'!A:M,9,0),0) -> 32253300 | I12: =G12/$G$13*100 -> 0.084269204
C13: =SUM(C10:C12) -> 12598173607 | E13: =SUM(E10:E12) -> 100 | G13: =SUM(G10:G12) -> 38274124329 | I13: =SUM(I10:I12) -> 100
C15: 17511805161 | G15: 18074590047
C16: =C15-C13 -> 4913631554 | G16: =G15-G13 -> -20199534282

Sheet سایر درآمدها
A1: صندوق سرمایه‌گذاری اختصاصی بازارگردانی لاجورد دماوند
A2: صورت وضعیت درآمدها
A3: =درآمد!A3 -> دوره یک ماهه منتهی به 30 مهر 1405
A5: 2-5- سایر درآمدها
C6: (مبالغ به ریال)
A7: عنوان | C7: ='درآمد سرمایه گذاری در سهام'!C7 -> طی مهر ماه | E7: ='درآمد سرمایه گذاری در سهام'!M7 -> از ابتدای سال مالی تا پایان مهر ماه
A8: درآمد حاصل از تنزیل سود سهام دریافتنی | C8: 0 | E8: 67720861981
A9: درآمد حاصل از کارمزد بازارگردانی | C9: 0 | E9: 6601071547
C10: =SUM(C8:C9) -> 0 | E10: =SUM(E8:E9) -> 74321933528

Sheet مبالغ تخصیصی اوراق
A1: صندوق سرمایه‌گذاری اختصاصی بازارگردانی لاجورد دماوند
A2: صورت وضعیت درآمدها
A3: =درآمد!A3 -> دوره یک ماهه منتهی به 30 مهر 1405
A5: 2-5-1- مبالغ تخصیص یافته بابت خرید و نگهداری اوراق بهادار با درآمد ثابت (نرخ سود ترجیحی)
A6: (مبالغ به ریال)
A7: طرف معامله | C7: نام ورقه بهادار | E7: نماد | G7: تعداد اوراق | I7: بهای تمام شده اوراق | K7: مبلغ شناسایی شده بابت قرارداد خرید و نگهداری اوراق بهادار | M7: نرخ اسمی | O7: نرخ اسمی | Q7: میانگین نرخ بازده تا سررسید قراردادهای منعقده
O8: درصد
A9: بین المللی ساروج بوشهر | C9: مرابحه پدیده شیمی غرب 14040704 | E9: غرب06 | G9: 470300 | I9: =G9*M9 -> 470300000000 | K9: 8983283463 | M9: 1000000 | O9: 18 | Q9: 23.5
A10: گروه مالی نماد غدیر(سهامی عام) | C10: مرابحه پدیده شیمی غرب 14040704 | E10: غرب06 | G10: 0 | I10: =G10*M10 -> 0 | K10: 4078311900 | M10: 1000000 | O10: 18 | Q10: 23.5
A11: سرمایه‌گذاری‌غدیر(هلدینگ‌) | C11: مرابحه پدیده شیمی غرب 14040704 | E11: غرب06 | G11: 138700 | I11: =G11*M11 -> 138700000000 | K11: 7114781895 | M11: 1000000 | O11: 18 | Q11: 23.5
A12: لیزینگ اقتصاد نوین | C12: مرابحه پدیده شیمی غرب 14040704 | E12: غرب06 | G12: 100000 | I12: =G12*M12 -> 100000000000 | K12: 1886943778 | M12: 1000000 | O12: 18 | Q12: 23.5
A13: توسعه حمل و نقل ریلی پارسیان | C13: مرابحه پدیده شیمی غرب 14040704 | E13: غرب06 | G13: 185000 | I13: =G13*M13 -> 185000000000 | K13: 2296345724 | M13: 1000000 | O13: 18 | Q13: 23.5
A14: تامین سرمایه دماوند | C14: مرابحه پدیده شیمی غرب 14040704 | E14: غرب06 | G14: 0 | I14: =G14*M14 -> 0 | K14: 701638750 | M14: 1000000 | O14: 18 | Q14: 23.5
A15: بین المللی توسعه ساختمان | C15: مرابحه پدیده شیمی غرب 14040704 | E15: غرب06 | G15: 0 | I15: =G15*M15 -> 0 | K15: 874964682 | M15: 1000000 | O15: 18 | Q15: 23.5
A16: حفاری شمال | C16: مرابحه پدیده شیمی غرب 14040704 | E16: غرب06 | G16: 0 | I16: =G16*M16 -> 0 | K16: 14239426 | M16: 1000000 | O16: 18 | Q16: 23.5
A17: صندوق س. جام سبز سهند-س | C17: مرابحه پدیده شیمی غرب 14040704 | E17: غرب06 | G17: 0 | I17: =G17*M17 -> 0 | K17: 28481822 | M17: 1000000 | O17: 18 | Q17: 23.5

Sheet درآمد سود سهام
A1: صندوق سرمایه‌گذاری اختصاصی بازارگردانی لاجورد دماوند
A2: صورت وضعیت درآمدها
A3: =درآمد!A3 -> دوره یک ماهه منتهی به 30 مهر 1405
A5: 2-1-1- درآمد سود سهام
C6: (مبالغ به ریال)
A7: نام سهام | C7: ='درآمد سرمایه گذاری در سهام'!C7 -> طی مهر ماه | I7: ='درآمد سرمایه گذاری در سهام'!M7 -> از ابتدای سال مالی تا پایان مهر ماه
C8: جمع درآمد سود سهام | E8: هزینه تنزیل | G8: خالص درآمد سود سهام | I8: جمع درآمد سود سهام | K8: هزینه تنزیل | M8: خالص درآمد سود سهام
A9: سرمایه‌گذاری‌غدیر(هلدینگ‌ | C9: 0 | E9: 0 | G9: 0 | I9: 128110500000 | K9: 0 | M9: =I9+K9 -> 128110500000
A10: بیمه کوثر | C10: 0 | E10: 0 | G10: 0 | I10: 2150282120 | K10: 0 | M10: =I10+K10 -> 2150282120
A11: لیزینگ اقتصاد نوین | C11: 0 | E11: 0 | G11: 0 | I11: 51959289260 | K11: 0 | M11: =I11+K11 -> 51959289260
A12: آهن و فولاد غدیر ایرانیان | C12: 0 | E12: 0 | G12: 0 | I12: 182024576514 | K12: -1483896004 | M12: =I12+K12 -> 180540680510
A13: بین المللی ساروج بوشهر | C13: 0 | E13: 0 | G13: 0 | I13: 192751796720 | K13: 0 | M13: =I13+K13 -> 192751796720
A14: صبا فولاد خلیج فارس | C14: 0 | E14: 0 | G14: 0 | I14: 144493495335 | K14: 0 | M14: =I14+K14 -> 144493495335
A15: فولاد سیرجان ایرانیان | C15: 0 | E15: 0 | G15: 0 | I15: 518726285538 | K15: 0 | M15: =I15+K15 -> 518726285538
C16: =SUM(C9:C15) -> 0 | E16: =SUM(E9:E15) -> 0 | G16: =SUM(G9:G15) -> 0 | I16: =SUM(I9:I15) -> 1220216225487 | K16: =SUM(K9:K15) -> -1483896004 | M16: =SUM(M9:M15) -> 1218732329483
C18: ='درآمد سرمایه گذاری در سهام'!#REF! -> #REF! | E18: 0 | G18: =C18+E18 -> #REF! | I18: ='درآمد سرمایه گذاری در سهام'!#REF! -> #REF! | K18: -13515731561 | M18: =I18+K18 -> #REF!
C19: =C18-C16 -> #REF! | E19: =E18-E16 -> 0 | G19: =G18-G16 -> #REF! | I19: =I18-I16 -> #REF! | K19: =K18-K16 -> -12031835557 | M19: =M18-M16 -> #REF!
I20: =I16-'درآمد سرمایه گذاری در سهام'!M37 -> 0

Sheet درآمد سود صندوق
A1: صندوق سرمایه‌گذاری اختصاصی بازارگردانی لاجورد دماوند
A2: صورت وضعیت درآمدها
A3: =درآمد!A3 -> دوره یک ماهه منتهی به 30 مهر 1405
A5: 2-2-1- درآمد سود صندوق
I6: (مبالغ به ریال)
I7: ='درآمد سرمایه گذاری در سهام'!C7 -> طی مهر ماه | K7: ='درآمد سرمایه گذاری در سهام'!M7 -> از ابتدای سال مالی تا پایان مهر ماه
A8: نام صندوق | C8: تاریخ تقسیم سود | E8: تعداد واحد صندوق در زمان تقسیم سود | G8: سود متعلق به هر واحد | I8: خالص درآمد سود صندوق | K8: خالص درآمد سود صندوق
A9: صندوق سرمایه‌گذاری نیلی دماوند | C9: 1405/01/16 | E9: 1000000 | G9: 211 | I9: 0 | K9: 429000000
I10: =SUM(I9:I9) -> 0 | K10: =SUM(K9:K9) -> 429000000
I12: 0 | K12: 429000000
I13: =I12-I10 -> 0 | K13: =K12-K10 -> 0
K15: =K10-'درآمد سرمایه گذاری در صندوق'!M27 -> 0

Sheet سود اوراق بهادار
A1: صندوق سرمایه‌گذاری اختصاصی بازارگردانی لاجورد دماوند
A2: صورت وضعیت درآمدها
A3: =درآمد!A3 -> دوره یک ماهه منتهی به 30 مهر 1405
A5: 2-3-1- سود اوراق بهادار با درآمد ثابت
C6: (مبالغ به ریال)
A7: شرح | C7: ='درآمد سرمایه گذاری در سهام'!C7 -> طی مهر ماه | I7: ='درآمد سرمایه گذاری در سهام'!M7 -> از ابتدای سال مالی تا پایان مهر ماه
C8: درآمد سود | E8: هزینه تنزیل | G8: خالص درآمد | I8: درآمد سود | K8: هزینه تنزیل | M8: خالص درآمد
A9: مرابحه پدیده شیمی غرب 14060704 | C9: 28045560277 | E9: 0 | G9: =C9+E9 -> 28045560277 | I9: 154622830473 | K9: 0 | M9: =I9+K9 -> 154622830473
A10: صکوک اجاره گل گهر504-3ماهه23% | C10: 0 | E10: 0 | G10: =C10+E10 -> 0 | I10: 3881554 | K10: 0 | M10: =I10+K10 -> 3881554
C11: =SUM(C9:C10) -> 28045560277 | E11: =SUM(E9:E10) -> 0 | G11: =SUM(G9:G10) -> 28045560277 | I11: =SUM(I9:I10) -> 154626712027 | K11: =SUM(K9:K10) -> 0 | M11: =SUM(M9:M10) -> 154626712027
C13: ='درآمد سرمایه گذاری در اوراق به'!C12 -> 28045560277 | E13: 0 | G13: =C13+E13 -> 28045560277 | I13: ='درآمد سرمایه گذاری در اوراق به'!M12 -> 154626712027 | K13: 0 | M13: =I13+K13 -> 154626712027
C14: =C13-C11 -> 0 | E14: =E13-E11 -> 0 | G14: =G13-G11 -> 0 | I14: =I13-I11 -> 0 | K14: =K13-K11 -> 0 | M14: =M13-M11 -> 0

Sheet سود سپرده بانکی
A1: صندوق سرمایه‌گذاری اختصاصی بازارگردانی لاجورد دماوند
A2: صورت وضعیت درآمدها
A3: =درآمد!A3 -> دوره یک ماهه منتهی به 30 مهر 1405
A5: 2-4-1- سود سپرده بانکی
C6: (مبالغ به ریال)
A7: شرح | C7: ='درآمد سرمایه گذاری در سهام'!C7 -> طی مهر ماه | I7: ='درآمد سرمایه گذاری در سهام'!M7 -> از ابتدای سال مالی تا پایان مهر ماه
C8: درآمد سود | E8: هزینه تنزیل | G8: خالص درآمد | I8: درآمد سود | K8: هزینه تنزیل | M8: خالص درآمد
A9: گردشگری | C9: 12598173607 | E9: 0 | G9: =C9+E9 -> 12598173607 | I9: 37711496159 | K9: 0 | M9: =I9+K9 -> 37711496159
A10: بانک سینا | C10: 0 | E10: 0 | G10: =C10+E10 -> 0 | I10: 530374870 | K10: 0 | M10: =I10+K10 -> 530374870
A11: بانک تجارت | C11: 0 | E11: 0 | G11: =C11+E11 -> 0 | I11: 32253300 | K11: 0 | M11: =I11+K11 -> 32253300
C12: =SUM(C9:C11) -> 12598173607 | E12: =SUM(E9:E11) -> 0 | G12: =SUM(G9:G11) -> 12598173607 | I12: =SUM(I9:I11) -> 38274124329 | K12: =SUM(K9:K11) -> 0 | M12: =SUM(M9:M11) -> 38274124329
C14: ='درآمد سپرده بانکی'!C13 -> 12598173607 | I14: ='درآمد سپرده بانکی'!G13 -> 38274124329
C15: =C14-C12 -> 0 | I15: =I14-I12 -> 0

Sheet درآمد ناشی از تغییر قیمت اوراق
A1: صندوق سرمایه‌گذاری اختصاصی بازارگردانی لاجورد دماوند
A2: صورت وضعیت درآمدها
A3: =درآمد!A3 -> دوره یک ماهه منتهی به 30 مهر 1405
A5: 2-1-2- درآمد ناشی از تغییر قیمت سهام و حق تقدم
C6: (مبالغ به ریال)
A7: شرح | C7: ='درآمد سرمایه گذاری در سهام'!C7 -> طی مهر ماه | K7: ='درآمد سرمایه گذاری در سهام'!M7 -> از ابتدای سال مالی تا پایان مهر ماه
C8: تعداد | E8: خالص ارزش فروش | G8: ارزش دفتری | I8: سود و زیان ناشی از تغییر قیمت | K8: تعداد | M8: خالص ارزش فروش | O8: ارزش دفتری | Q8: سود و زیان ناشی از تغییر قیمت
A9: بین‌المللی‌توسعه‌ساختمان | C9: 535084349 | E9: 442713123092 | G9: -452162091330 | I9: =E9+G9 -> -9448968238 | K9: 535084349 | M9: 442713123092 | O9: -387410618979 | Q9: =M9+O9 -> 55302504113
A10: سرمایه‌گذاری‌غدیر(هلدینگ‌ | C10: 130000000 | E10: 2720131128000 | G10: -2859987255556 | I10: =E10+G10 -> -139856127556 | K10: 130000000 | M10: 2720131128000 | O10: -2550664202641 | Q10: =M10+O10 -> 169466925359
A11: آ.س.پ | C11: 2800000 | E11: 57915950400 | G11: -95155626720 | I11: =E11+G11 -> -37239676320 | K11: 2800000 | M11: 57915950400 | O11: -24677230955 | Q11: =M11+O11 -> 33238719445
A12: بیمه کوثر | C12: 30718316 | E12: 61021600518 | G12: -54360792011 | I12: =E12+G12 -> 6660808507 | K12: 30718316 | M12: 61021600518 | O12: -49510986738 | Q12: =M12+O12 -> 11510613780
A13: توسعه حمل و نقل ریلی پارسیان | C13: 9524413 | E13: 212232990148 | G13: -210614658495 | I13: =E13+G13 -> 1618331653 | K13: 9524413 | M13: 212232990148 | O13: -114593889293 | Q13: =M13+O13 -> 97639100855
A14: توسعه مسیر برق گیلان | C14: 6360750 | E14: 186673247927 | G14: -190670383595 | I14: =E14+G14 -> -3997135668 | K14: 6360750 | M14: 186673247927 | O14: -128505817150 | Q14: =M14+O14 -> 58167430777
A15: لیزینگ اقتصاد نوین | C15: 255250059 | E15: 867190634447 | G15: -742787640814 | I15: =E15+G15 -> 124402993633 | K15: 255250059 | M15: 867190634447 | O15: -632884799646 | Q15: =M15+O15 -> 234305834801
A16: توسعه سرمایه و صنعت غدیر | C16: 165283622 | E16: 5314784647473 | G16: -3689237077369 | I16: =E16+G16 -> 1625547570104 | K16: 165283622 | M16: 5314784647473 | O16: -1912407584132 | Q16: =M16+O16 -> 3402377063341
A17: آهن و فولاد غدیر ایرانیان | C17: 60600000 | E17: 735124880160 | G17: -603535400036 | I17: =E17+G17 -> 131589480124 | K17: 60600000 | M17: 735124880160 | O17: -272828660272 | Q17: =M17+O17 -> 462296219888
A18: بین المللی توسعه ص. معادن غدیر | C18: 1194226811 | E18: 12434386049658 | G18: -8838510091026 | I18: =E18+G18 -> 3595875958632 | K18: 1194226811 | M18: 12434386049658 | O18: -3473879033889 | Q18: =M18+O18 -> 8960507015769
A19: بین المللی ساروج بوشهر | C19: 25559690 | E19: 1649134887520 | G19: -1438542308998 | I19: =E19+G19 -> 210592578522 | K19: 25559690 | M19: 1649134887520 | O19: -1514743227578 | Q19: =M19+O19 -> 134391659942
A20: تامین سرمایه دماوند | C20: 519244706 | E20: 1442922072545 | G20: -1244338658634 | I20: =E20+G20 -> 198583413911 | K20: 519244706 | M20: 1442922072545 | O20: -1167408774246 | Q20: =M20+O20 -> 275513298299
... A22: گروه مالی نماد غدیر(سهامی عام) | C22: 2809371544 | E22: 12885215175265 | G22: -11537275790874 | I22: =E22+G22 -> 1347939384391 | K22: 2809371544 | M22: 12885215175265 | O22: -8563660385397 | Q22: =M22+O22 -> 4321554789868
E23: =SUM(E9:E22) -> 44771042771601 | G23: =SUM(G9:G22) -> -37182491918872 | I23: =SUM(I9:I22) -> 7588550852729 | M23: =SUM(M9:M22) -> 44771042771601 | O23: =SUM(O9:O22) -> -23889359118648 | Q23: =SUM(Q9:Q22) -> 20881683652953
A25: 2-2-2- درآمد ناشی از تغییر قیمت واحد صندوق
C26: (مبالغ به ریال)
A27: شرح | C27: =C7 -> طی مهر ماه | K27: =K7 -> از ابتدای سال مالی تا پایان مهر ماه
C28: تعداد | E28: خالص ارزش فروش | G28: ارزش دفتری | I28: سود و زیان ناشی از تغییر قیمت | K28: تعداد | M28: خالص ارزش فروش | O28: ارزش دفتری | Q28: سود و زیان ناشی از تغییر قیمت
A29: صندوق س. سپید دماوند-د | C29: 81605712 | E29: 2991785859601 | G29: -2947012512743 | I29: =E29+G29 -> 44773346858 | K29: 81605712 | M29: 2991785859601 | O29: -2920718496773 | Q29: =M29+O29 -> 71067362828
A30: صندوق س سپر سرمایه بیدار- ثابت | C30: 6460000 | E30: 312064383809 | G30: -303766344841 | I30: =E30+G30 -> 8298038968 | K30: 6460000 | M30: 312064383809 | O30: -250000218413 | Q30: =M30+O30 -> 62064165396
A31: صندوق س.درآمد ثابت سام-د | C31: 1000000 | E31: 22383742950 | G31: -21752975631 | I31: =E31+G31 -> 630767319 | K31: 1000000 | M31: 22383742950 | O31: -20081402283 | Q31: =M31+O31 -> 2302340667
A32: صندوق س.درآمدثابت شمیم تابان-د | C32: 16800000 | E32: 330384525765 | G32: -321097551601 | I32: =E32+G32 -> 9286974164 | K32: 16800000 | M32: 330384525765 | O32: -300970141829 | Q32: =M32+O32 -> 29414383936
A33: صندوق ص.س.درآمد ثابت اطمینان هیوا-د | C33: 58950000 | E33: 1114510222752 | G33: -1086564737879 | I33: =E33+G33 -> 27945484873 | K33: 58950000 | M33: 1114510222752 | O33: -978044297766 | Q33: =M33+O33 -> 136465924986
A34: ص.س.درآمد ثابت رایا پایدار-د | C34: 2000000 | E34: 22533687637 | G34: -21907918475 | I34: =E34+G34 -> 625769162 | K34: 2000000 | M34: 22533687637 | O34: -20000000000 | Q34: =M34+O34 -> 2533687637
A35: ص.س.درآمد ثابت آبی هامون-د | C35: 246250000 | E35: 2617903042148 | G35: -2610788166571 | I35: =E35+G35 -> 7114875577 | K35: 246250000 | M35: 2617903042148 | O35: -2606906942087 | Q35: =M35+O35 -> 10996100061
A36: صندوق س.درآمد ثابت خاورمیانه-د | C36: 12000000 | E36: 119955750000 | G36: -120044250000 | I36: =E36+G36 -> -88500000 | K36: 12000000 | M36: 119955750000 | O36: -120044250000 | Q36: =M36+O36 -> -88500000
A37: ص.س.درآمد ثابت برلیان شهر-د | C37: 2000000 | E37: 22039869810 | G37: -23968402960 | I37: =E37+G37 -> -1928533150 | K37: 0 | M37: 0 | O37: 0 | Q37: 0
A38: صندوق س. نوع دوم اعتبار-د | C38: 52500000 | E38: 1578609555313 | G38: -1620008962627 | I38: =E38+G38 -> -41399407314 | K38: 0 | M38: 0 | O38: 0 | Q38: 0
E39: =SUM(E29:E38) -> 9132170639785 | G39: =SUM(G23) -> -37182491918872 | I39: =SUM(I29:I38) -> 55258816457 | M39: =SUM(M29:M38) -> 7531521214662 | O39: =SUM(O29:O38) -> -7216765749151 | Q39: =SUM(Q29:Q38) -> 314755465511
A41: 2-3-2- درآمد ناشی از تغییر قیمت اوراق بهادار با درآمد ثابت
C42: (مبالغ به ریال)
A43: شرح | C43: =C7 -> طی مهر ماه | K43: =K7 -> از ابتدای سال مالی تا پایان مهر ماه
C44: تعداد | E44: خالص ارزش فروش | G44: ارزش دفتری | I44: سود و زیان ناشی از تغییر قیمت | K44: تعداد | M44: خالص ارزش فروش | O44: ارزش دفتری | Q44: سود و زیان ناشی از تغییر قیمت
A45: مرابحه پدیده شیمی غرب 14060704 | C45: 894000 | E45: 893351850000 | G45: -892350158570 | I45: =E45+G45 -> 1001691430 | K45: 894000 | M45: 893351850000 | O45: -893943488945 | Q45: =M45+O45 -> -591638945
E46: =SUM(E45) -> 893351850000 | G46: =SUM(G45) -> -892350158570 | I46: =SUM(I45) -> 1001691430 | M46: =SUM(M45) -> 893351850000 | O46: =SUM(O45) -> -893943488945 | Q46: =SUM(Q45) -> -591638945
Q48: =Q46+Q39+Q23 -> 21195847479519
Q49: 8577355495059
Q50: =Q49-Q48 -> -12618491984460

Sheet درآمد ناشی از فروش
A1: صندوق سرمایه‌گذاری اختصاصی بازارگردانی لاجورد دماوند
A2: صورت وضعیت درآمدها
A3: =درآمد!A3 -> دوره یک ماهه منتهی به 30 مهر 1405
A5: 2-1-3- سود(زیان) حاصل از فروش سهام
C6: (مبالغ به ریال)
A7: شرح | C7: ='درآمد سرمایه گذاری در سهام'!C7 -> طی مهر ماه | K7: ='درآمد سرمایه گذاری در سهام'!M7 -> از ابتدای سال مالی تا پایان مهر ماه
C8: تعداد | E8: خالص بهای فروش | G8: ارزش دفتری | I8: سود و زیان ناشی از فروش | K8: تعداد | M8: خالص بهای فروش | O8: ارزش دفتری | Q8: سود و زیان ناشی از فروش
A9: سرمایه‌گذاری‌غدیر(هلدینگ‌ | C9: 36415298 | E9: 781837709783 | G9: -642331846458 | I9: =E9+G9 -> 139505863325 | K9: 228030040 | M9: 3927231376154 | O9: -3494242287649 | Q9: =M9+O9 -> 432989088505
A10: بین‌المللی‌توسعه‌ساختمان | C10: 207000000 | E10: 171589493205 | G10: -131166774275 | I10: =E10+G10 -> 40422718930 | K10: 776052063 | M10: 526756796360 | O10: -416279666682 | Q10: =M10+O10 -> 110477129678
A11: توسعه حمل و نقل ریلی پارسیان | C11: 2051887 | E11: 45448875355 | G11: -24633796860 | I11: =E11+G11 -> 20815078495 | K11: 17567917 | M11: 277527945417 | O11: -164797774729 | Q11: =M11+O11 -> 112730170688
A12: توسعه مسیر برق گیلان | C12: 4470546 | E12: 123253707293 | G12: -88724918445 | I12: =E12+G12 -> 34528788848 | K12: 8898468 | M12: 228421363496 | O12: -159940973052 | Q12: =M12+O12 -> 68480390444
A13: لیزینگ اقتصاد نوین | C13: 8500000 | E13: 28174970936 | G13: -20692689500 | I13: =E13+G13 -> 7482281436 | K13: 66399336 | M13: 170805611380 | O13: -159897363412 | Q13: =M13+O13 -> 10908247968
A14: توسعه سرمایه و صنعت غدیر | C14: 14000000 | E14: 378029798503 | G14: -161220559183 | I14: =E14+G14 -> 216809239320 | K14: 450845863 | M14: 7740476535168 | O14: -4809196277703 | Q14: =M14+O14 -> 2931280257465
A15: آهن و فولاد غدیر ایرانیان | C15: 55077397 | E15: 517196219013 | G15: -243537954858 | I15: =E15+G15 -> 273658264155 | K15: 4510577397 | M15: 20878717795638 | O15: -19894673590816 | Q15: =M15+O15 -> 984044204822
A16: بین المللی توسعه ص. معادن غدیر | C16: 187017674 | E16: 1632586679375 | G16: -542772855255 | I16: =E16+G16 -> 1089813824120 | K16: 546985703 | M16: 3673898867957 | O16: -1568202700360 | Q16: =M16+O16 -> 2105696167597
A17: بین المللی ساروج بوشهر | C17: 400000 | E17: 24486776101 | G17: -23681591354 | I17: =E17+G17 -> 805184747 | K17: 1213052 | M17: 72988379952 | O17: -71927462811 | Q17: =M17+O17 -> 1060917141
A18: تامین سرمایه دماوند | C18: 32100000 | E18: 82366853761 | G18: -71636635177 | I18: =E18+G18 -> 10730218584 | K18: 38375542 | M18: 96688575257 | O18: -85464599821 | Q18: =M18+O18 -> 11223975436
A19: گروه مالی نماد غدیر(سهامی عام) | C19: 447877428 | E19: 1940460985121 | G19: -1339726985912 | I19: =E19+G19 -> 600733999209 | K19: 1303193288 | M19: 4847903567246 | O19: -3840886465457 | Q19: =M19+O19 -> 1007017101789
A20: فولاد خراسان | C20: 0 | E20: 0 | G20: 0 | I20: 0 | K20: 165483407 | M20: 368697028569 | O20: -289276255854 | Q20: =M20+O20 -> 79420772715
A21: حفاری شمال | C21: 0 | E21: 0 | G21: 0 | I21: 0 | K21: 16651591 | M21: 53444732430 | O21: -57547178910 | Q21: =M21+O21 -> -4102446480
A22: آ.س.پ | C22: 0 | E22: 0 | G22: 0 | I22: 0 | K22: 4060530 | M22: 44951637655 | O22: -35752467245 | Q22: =M22+O22 -> 9199170410
A23: بیمه اتکایی امین | C23: 0 | E23: 0 | G23: 0 | I23: 0 | K23: 85081 | M23: 167907271 | O23: -163783796 | Q23: =M23+O23 -> 4123475
A24: فولاد سیرجان ایرانیان | C24: 0 | E24: 0 | G24: 0 | I24: 0 | K24: 1794900642 | M24: 5510344970940 | O24: -4046502616413 | Q24: =M24+O24 -> 1463842354527
A25: ح.لیزینگ اقتصاد نوین | C25: 0 | E25: 0 | G25: 0 | I25: 0 | K25: 44314958 | M25: 44802422538 | O25: -44802422538 | Q25: =M25+O25 -> 0
A26: ح.فولاد سیرجان ایرانیان | C26: 0 | E26: 0 | G26: 0 | I26: 0 | K26: 736668414 | M26: 1197743862219 | O26: -888588817462 | Q26: =M26+O26 -> 309155044757
E27: =SUM(E9:E26) -> 5725432068446 | G27: =SUM(G9:G26) -> -3290126607277 | I27: =SUM(I9:I26) -> 2435305461169 | M27: =SUM(M9:M26) -> 49661569375647 | O27: =SUM(O9:O26) -> -40028142704710 | Q27: =SUM(Q9:Q26) -> 9633426670937
A29: 2-2-3- سود(زیان) حاصل از فروش واحد صندوق
C30: (مبالغ به ریال)
A31: شرح | C31: =C7 -> طی مهر ماه | K31: =K7 -> از ابتدای سال مالی تا پایان مهر ماه
C32: تعداد | E32: خالص بهای فروش | G32: ارزش دفتری | I32: سود و زیان ناشی از فروش | K32: تعداد | M32: خالص بهای فروش | O32: ارزش دفتری | Q32: سود و زیان ناشی از فروش
A33: صندوق س. سپید دماوند-د | C33: 52670000 | E33: 1906947393793 | G33: -1879998383938 | I33: =E33+G33 -> 26949009855 | K33: 314307454 | M33: 10464340037869 | O33: -10093918972696 | Q33: =M33+O33 -> 370421065173
A34: صندوق س. نوع دوم اعتبار-د | C34: 52500000 | E34: 1578609555313 | G34: -1504937628858 | I34: =E34+G34 -> 73671926455 | K34: 52500000 | M34: 1578609555313 | O34: -1504937628858 | Q34: =M34+O34 -> 73671926455
A35: ص.س.درآمد ثابت برلیان شهر-د | C35: 2000000 | E35: 22039869810 | G35: -19999244810 | I35: =E35+G35 -> 2040625000 | K35: 2000000 | M35: 22039869810 | O35: -19999244810 | Q35: =M35+O35 -> 2040625000
A36: ص.س.درآمد ثابت آبی هامون-د | C36: 11500000 | E36: 120889405588 | G36: -114997811838 | I36: =E36+G36 -> 5891593750 | K36: 11500000 | M36: 120889405588 | O36: -114997811838 | Q36: =M36+O36 -> 5891593750
A37: صندوق اندیشه ورزان صباتامین -د | C37: 0 | E37: 0 | G37: 0 | I37: 0 | K37: 44130000 | M37: 2623400351171 | O37: -2616223196458 | Q37: =M37+O37 -> 7177154713
A38: صندوق س سپر سرمایه بیدار- ثابت | C38: 0 | E38: 0 | G38: 0 | I38: 0 | K38: 400000 | M38: 15518275525 | O38: -15474165210 | Q38: =M38+O38 -> 44110315
A39: صندوق س. با درآمد ثابت مانی | C39: 0 | E39: 0 | G39: 0 | I39: 0 | K39: 6755000 | M39: 200940166010 | O39: -199920576840 | Q39: =M39+O39 -> 1019589170
A40: صندوق س. ارزش پاداش-د | C40: 0 | E40: 0 | G40: 0 | I40: 0 | K40: 22770000 | M40: 605562776360 | O40: -587303619470 | Q40: =M40+O40 -> 18259156890
A41: صندوق س. نوع دوم نیلی دماوند-د | C41: 0 | E41: 0 | G41: 0 | I41: 0 | K41: 1000000 | M41: 10047293695 | O41: -10097399382 | Q41: =M41+O41 -> -50105687
A42: صندوق س.طلوع نوین ثابت-د | C42: 0 | E42: 0 | G42: 0 | I42: 0 | K42: 4285000 | M42: 338912749855 | O42: -299841281640 | Q42: =M42+O42 -> 39071468215
A43: صندوق س.درآمدثابت شمیم تابان-د | C43: 0 | E43: 0 | G43: 0 | I43: 0 | K43: 73300000 | M43: 1263557291521 | O43: -1192681340785 | Q43: =M43+O43 -> 70875950736
A44: صندوق ص.س.د.ثابت ماه آفرید سپینود-د | C44: 0 | E44: 0 | G44: 0 | I44: 0 | K44: 11500000 | M44: 190703152386 | O44: -180258624168 | Q44: =M44+O44 -> 10444528218
A45: صندوق س. جام سبز سهند-س | C45: 0 | E45: 0 | G45: 0 | I45: 0 | K45: 2042980 | M45: 23166114585 | O45: -19506118059 | Q45: =M45+O45 -> 3659996526
E46: =SUM(E33:E45) -> 3628486224504 | G46: =SUM(G33:G45) -> -3519933069444 | I46: =SUM(I33:I45) -> 108553155060 | M46: =SUM(M33:M45) -> 17457687039688 | O46: =SUM(O33:O45) -> -16855159980214 | Q46: =SUM(Q33:Q45) -> 602527059474
A48: 2-2-3- سود(زیان) حاصل از فروش اوراق بهادار با درآمد ثابت
C49: (مبالغ به ریال)
A50: شرح | C50: =C7 -> طی مهر ماه | K50: =K7 -> از ابتدای سال مالی تا پایان مهر ماه
C51: تعداد | E51: خالص بهای فروش | G51: ارزش دفتری | I51: سود و زیان ناشی از فروش | K51: تعداد | M51: خالص بهای فروش | O51: ارزش دفتری | Q51: سود و زیان ناشی از فروش
A52: صکوک اجاره گل گهر504-3ماهه23% | C52: 0 | E52: 0 | G52: 0 | I52: 0 | K52: 100 | M52: 99927500 | O52: -99855000 | Q52: =M52+O52 -> 72500
A53: مرابحه پدیده شیمی غرب 14060704 | C53: 1095000 | E53: 1094697125000 | G53: -1094904941430 | I53: =E53+G53 -> -207816430 | K53: 2372800 | M53: 2372060720000 | O53: -2372267801049 | Q53: =M53+O53 -> -207081049
E54: =SUM(E52:E53) -> 1094697125000 | G54: =SUM(G52:G53) -> -1094904941430 | I54: =SUM(I52:I53) -> -207816430 | M54: =SUM(M52:M53) -> 2372160647500 | O54: =SUM(O52:O53) -> -2372367656049 | Q54: =SUM(Q52:Q53) -> -207008549
I57: =I54+I46+I27 -> 2543650799799 | Q57: =Q54+Q46+Q27 -> 10235746721862
I58: 4577707447951 | Q58: 6053673740395
I59: =I58-I57 -> 2034056648152 | Q59: =Q58-Q57 -> -4182072981467
Q60: ='درآمد اعمال اختیار'!Q19 -> 4792533611
Q61: =Q60-Q59 -> 4186865515078

Sheet درآمد اعمال اختیار
A1: صندوق سرمایه‌گذاری اختصاصی بازارگردانی لاجورد دماوند
A2: صورت وضعیت درآمدها
A3: =درآمد!A3 -> دوره یک ماهه منتهی به 30 مهر 1405
A5: 2-3-1- سود (زیان) ناشی از اعمال اختیار معامله سهام
C6: (مبالغ به ریال)
C7: ='درآمد سرمایه گذاری در سهام'!C7 -> طی مهر ماه | M7: ='درآمد سرمایه گذاری در سهام'!M7 -> از ابتدای سال مالی تا پایان مهر ماه
A8: نام اختیار | C8: تاریخ اعمال | E8: تعداد | G8: کارمزد اعمال | I8: مالیات اعمال | K8: سود(زیان)اعمال | M8: کارمزد اعمال | O8: مالیات اعمال | Q8: سود(زیان)اعمال
A9: اختیارخ وغدیر-15000-1404/12/06(ضغدر12061) | C9: 1404/12/06 | E9: 7930000 | G9: 0 | I9: 0 | K9: 0 | M9: -18030000 | O9: -180300000 | Q9: 2211972504
A10: اختیارخ وغدیر-14000-1404/12/06(ضغدر12051) | C10: 1404/12/06 | E10: 3997000 | G10: 0 | I10: 0 | K10: 0 | M10: -25109000 | O10: -251090000 | Q10: 1771729379
A11: اختیارخ وغدیر-13000-1404/12/06(ضغدر12041) | C11: 1404/12/06 | E11: 600000 | G11: 0 | I11: 0 | K11: 0 | M11: -3900000 | O11: -39000000 | Q11: 448433437
A12: اختیارخ وغدیر-15000-1405/02/02(ضغدر20341) | C12: 1405/02/30 | E12: 60000 | G12: 0 | I12: 0 | K12: 0 | M12: -33750 | O12: -337500 | Q12: 191445985
A13: اختیارخ وغدیر-18000-1404/12/06(ضغدر12081) | C13: 1404/12/06 | E13: 3885000 | G13: 0 | I13: 0 | K13: 0 | M13: 0 | O13: 0 | Q13: 116429954
A14: اختیارخ وغدیر-16000-1405/02/02(ضغدر20351) | C14: 1405/02/30 | E14: 40000 | G14: 0 | I14: 0 | K14: 0 | M14: 0 | O14: 0 | Q14: 22976310
A15: اختیارخ وغدیر-16000-1404/12/06(ضغدر12071) | C15: 1404/12/06 | E15: 9237000 | G15: 0 | I15: 0 | K15: 0 | M15: -16000 | O15: -160000 | Q15: 20555312
A16: اختیارخ وغدیر-18000-1405/02/02(ضغدر20361) | C16: 1405/02/30 | E16: 180000 | G16: 0 | I16: 0 | K16: 0 | M16: 0 | O16: 0 | Q16: 8990730
G17: =SUM(G9:G16) -> 0 | I17: =SUM(I9:I16) -> 0 | K17: =SUM(K9:K16) -> 0 | M17: =SUM(M9:M16) -> -47088750 | O17: =SUM(O9:O16) -> -470887500 | Q17: =SUM(Q9:Q16) -> 4792533611
Q19: 4792533611
Q20: =Q19-Q17 -> 0
